BEGIN:VCALENDAR
VERSION:2.0
PRODID:-//ChamberMaster//Event Calendar 2.0//EN
METHOD:PUBLISH
X-PUBLISHED-TTL:P3D
REFRESH-INTERVAL:P3D
CALSCALE:GREGORIAN
BEGIN:VEVENT
DTSTART:20250402T160000Z
DTEND:20250402T190000Z
X-MICROSOFT-CDO-ALLDAYEVENT:FALSE
SUMMARY:Career Fair
DESCRIPTION:Workforce Career Fair.  Open to the general public and students.
X-ALT-DESC;FMTTYPE=text/html:<span style="color:rgb(0\, 0\, 0)\; font-family:-apple-system\,system-ui\,segoe ui\,roboto\,helvetica\,arial\,sans-serif\,apple color emoji\,segoe ui emoji\,segoe ui symbol">Workforce Career Fair.&nbsp\; Open to the general public and students.</span>
LOCATION:Weatherford College Emerging Technology and Workforce Buidling 225 College Park Dr. Weatherford\, TX 76086
UID:e.2477.20336
SEQUENCE:3
DTSTAMP:20260423T090509Z
URL:http://business.parkercountychamber.com/events/details/career-fair-20336
END:VEVENT

END:VCALENDAR
