BEGIN:VCALENDAR
VERSION:2.0
PRODID:-//ChamberMaster//Event Calendar 2.0//EN
METHOD:PUBLISH
X-PUBLISHED-TTL:P3D
REFRESH-INTERVAL:P3D
CALSCALE:GREGORIAN
BEGIN:VEVENT
DTSTART:20260221T150000Z
DTEND:20260221T170000Z
X-MICROSOFT-CDO-ALLDAYEVENT:FALSE
SUMMARY:Canines for a Cause - a Dog Fashion Show
DESCRIPTION:Canines for a Cause: A Fashion Show Benefiting United Way of Parker County\n\nGet ready for a paw-sitively fabulous event as fashion goes to the dogs   all for a great cause! Canines for a Cause is a one-of-a-kind fashion show where our community's most stylish pups strut their stuff down the runway in support of United Way of Parker County.\n\n \n\nJoin us for a fun-filled event featuring:\n\n?? Adorable dogs modeling themed outfits\n\n?? Music\, raffles\, and local vendors\n\n?? Red carpet photo ops for pets and their people\n\n?? Heartwarming stories of impact from United Way programs\n\n \n\nAll proceeds from this tail-wagging affair help fund critical services in Parker County   supporting local nonprofits\, strengthening families\, and building a better community for all.\n\n \n\nWhether you're a dog lover\, a fashion fan\, or a supporter of community causes\, Canines for a Cause promises an event to remember. Come for the cuteness   stay for the impact!\n\n \n\nDate: February 21\, 2026\n\nTime: 9:00 am\n\nLocation: Heritage Park\n\nTickets/Registration/Sponsorships: www.unitedwayofparkercounty.org
X-ALT-DESC;FMTTYPE=text/html:<p><span style="color:rgba(14\,22\,126\,var(--O42jJQ\,1))">Canines for a Cause: A Fashion Show Benefiting United Way of Parker County</span></p>\n\n<p><span style="color:rgba(14\,22\,126\,var(--O42jJQ\,1))">Get ready for a paw-sitively fabulous event as fashion goes to the dogs &mdash\; all for a great cause! Canines for a Cause is a one-of-a-kind fashion show where our community&rsquo\;s most stylish pups strut their stuff down the runway in support of United Way of Parker County.</span></p>\n\n<p>&nbsp\;</p>\n\n<p><span style="color:rgba(14\,22\,126\,var(--O42jJQ\,1))">Join us for a fun-filled event featuring:</span></p>\n\n<p><span style="color:rgba(14\,22\,126\,var(--O42jJQ\,1))">?? Adorable dogs modeling themed outfits</span></p>\n\n<p><span style="color:rgba(14\,22\,126\,var(--O42jJQ\,1))">?? Music\, raffles\, and local vendors</span></p>\n\n<p><span style="color:rgba(14\,22\,126\,var(--O42jJQ\,1))">?? Red carpet photo ops for pets and their people</span></p>\n\n<p><span style="color:rgba(14\,22\,126\,var(--O42jJQ\,1))">?? Heartwarming stories of impact from United Way programs</span></p>\n\n<p>&nbsp\;</p>\n\n<p><span style="color:rgba(14\,22\,126\,var(--O42jJQ\,1))">All proceeds from this tail-wagging affair help fund critical services in Parker County &mdash\; supporting local nonprofits\, strengthening families\, and building a better community for all.</span></p>\n\n<p>&nbsp\;</p>\n\n<p><span style="color:rgba(14\,22\,126\,var(--O42jJQ\,1))">Whether you&rsquo\;re a dog lover\, a fashion fan\, or a supporter of community causes\, Canines for a Cause promises an event to remember. Come for the cuteness &mdash\; stay for the impact!</span></p>\n\n<p>&nbsp\;</p>\n\n<p><span style="color:rgba(14\,22\,126\,var(--O42jJQ\,1))">Date: February 21\, 2026</span></p>\n\n<p><span style="color:rgba(14\,22\,126\,var(--O42jJQ\,1))">Time: 9:00 am</span></p>\n\n<p><span style="color:rgba(14\,22\,126\,var(--O42jJQ\,1))">Location: Heritage Park</span></p>\n\n<p><span style="color:rgba(14\,22\,126\,var(--O42jJQ\,1))">Tickets/Registration/Sponsorships: www.unitedwayofparkercounty.org</span></p>\n
LOCATION:Heritage Park Amphitheater\, Weatherford\, TX
UID:e.2477.21724
SEQUENCE:3
DTSTAMP:20260422T203129Z
URL:http://business.parkercountychamber.com/events/details/canines-for-a-cause-a-dog-fashion-show-21724
END:VEVENT

END:VCALENDAR
