BEGIN:VCALENDAR
VERSION:2.0
PRODID:-//ChamberMaster//Event Calendar 2.0//EN
METHOD:PUBLISH
X-PUBLISHED-TTL:P3D
REFRESH-INTERVAL:P3D
CALSCALE:GREGORIAN
BEGIN:VEVENT
DTSTART:20231209T160000Z
DTEND:20231210T000000Z
X-MICROSOFT-CDO-ALLDAYEVENT:FALSE
SUMMARY:Candlelight Tour of Homes
DESCRIPTION:40th Annual Candlelight Tour of Homes in Weatherford\, TX.  Presented by the Parker County Heritage Society.  6 Historic homes plus St. Stephens Chapel and Chandor Gardens will be on this year's tour.  Tickets must be purchased in advance at the Weatherford Chamber\, 401 Fort Worth Hwy. or the Doss Heritage and Cultural Center\, 1400 Texas Dr. Tickets can also be purchased online at ParkerCountyHeritageSociety.com then picked up at the Doss from Nov. 29th through the day of the event.
X-ALT-DESC;FMTTYPE=text/html:<div style="background:#eee\; border:1px solid #ccc\; padding:5px 10px"><span style="font-size:12px"><span style="font-family:arial\,helvetica\,sans-serif">40th Annual Candlelight Tour of Homes in Weatherford\, TX.&nbsp\;&nbsp\;</span></span><span style="color:#333333"><span style="font-family:arial\,sans-serif"><span style="font-size:9.0pt">Presented by the Parker County Heritage Society.&nbsp\;&nbsp\;</span></span></span><span style="font-size:12px"><span style="font-family:arial\,helvetica\,sans-serif">6 Historic homes plus St. Stephens Chapel and Chandor Gardens will be on this year&#39\;s tour.&nbsp\; Tickets must be purchased in advance at the Weatherford Chamber\, 401 Fort Worth Hwy. or the Doss Heritage and Cultural Center\, 1400 Texas Dr. Tickets can also be purchased online at&nbsp\;<a href="parkercountyheritagesociety.com">ParkerCountyHeritageSociety.com</a> then picked up at the Doss from Nov. 29<sup>th</sup> through the day of the event.</span></span></div>\n
LOCATION:Weatherford\, TX - 6 houses plus St. Stephens Chapel and Chandor Gardens Tickets must be purchased in advance at the Weatherford Chamber\, Doss Heritage Center\, or online.
UID:e.2477.19126
SEQUENCE:3
DTSTAMP:20260424T112401Z
URL:http://business.parkercountychamber.com/events/details/candlelight-tour-of-homes-19126
END:VEVENT

END:VCALENDAR
