BEGIN:VCALENDAR
VERSION:2.0
PRODID:-//ChamberMaster//Event Calendar 2.0//EN
METHOD:PUBLISH
X-PUBLISHED-TTL:P3D
REFRESH-INTERVAL:P3D
CALSCALE:GREGORIAN
BEGIN:VEVENT
DTSTART:20241214T160000Z
DTEND:20241215T000000Z
X-MICROSOFT-CDO-ALLDAYEVENT:FALSE
SUMMARY:Candlelight Tour of Homes
DESCRIPTION:The Parker County Heritage Society is proud to showcase Weatherford's rich history and heritage. This year's 41st Annual Tour will feature six unique historic homes built between 1889 and 1930. Chandor Gardens\, the Doss Center\, and the Parker County Courthouse will also be open for the tour\, included with your ticket. Tickets are required and will not be available at the homes. They may be ordered online at parkercountyheritagesociety.com\n\nand will be available to pick up or purchase after Nov. 19th at the Doss Heritage Center 1400 Texas Dr.  Tickets will also be available after Nov. 19th at the Weatherford Chamber of Commerce for cash or check only.  Tours of Chandor Gardens\, the Parker County Courthouse\, and the Doss Center are also included in your ticket.
X-ALT-DESC;FMTTYPE=text/html:<p><span style="font-family:calibri\,sans-serif"><span style="font-size:11.0pt">The Parker County Heritage Society is proud to showcase Weatherford&#39\;s rich history and heritage. This year&#39\;s 41st Annual Tour will feature six unique historic homes built between 1889 and 1930. Chandor Gardens\, the Doss Center\, and the Parker County Courthouse will also be open for the tour\, included with your ticket. Tickets are required and will not be available at the homes. They may be ordered online at parkercountyheritagesociety.com<br />\nand will be available to pick up or purchase after Nov. 19th at the Doss Heritage Center 1400 Texas Dr.&nbsp\; Tickets will also be available after Nov. 19th at the Weatherford Chamber of Commerce for cash or check only.&nbsp\; Tours of Chandor Gardens\, the Parker County Courthouse\, and the Doss Center are also included in your ticket.</span></span></p>\n
LOCATION:Weatherford\, TX
UID:e.2477.20062
SEQUENCE:3
DTSTAMP:20260423T185506Z
URL:http://business.parkercountychamber.com/events/details/candlelight-tour-of-homes-12-14-2024-20062
END:VEVENT

END:VCALENDAR
