BEGIN:VCALENDAR
VERSION:2.0
PRODID:-//ChamberMaster//Event Calendar 2.0//EN
METHOD:PUBLISH
X-PUBLISHED-TTL:P3D
REFRESH-INTERVAL:P3D
CALSCALE:GREGORIAN
BEGIN:VEVENT
DTSTART:20240131T000000Z
DTEND:20240131T020000Z
X-MICROSOFT-CDO-ALLDAYEVENT:FALSE
SUMMARY:Candidate Forum
DESCRIPTION:Candidate Forum\n\n\n\nCounty Chair\n\nJustice the Peace Races\n\nCommissioner Races\n\nSherriff\n\nConstable Races\n\nCounty Judge Races\n\nHouse of Representative District 60\n\nSenate District 30
X-ALT-DESC;FMTTYPE=text/html:Candidate Forum<br />\n<br />\nCounty Chair<br />\nJustice the Peace Races<br />\nCommissioner Races<br />\nSherriff<br />\nConstable Races<br />\nCounty Judge Races<br />\nHouse of Representative District 60<br />\nSenate District 30
LOCATION:Doss Heritage and Cultural Center 1400 Texas Drive Weatherford\, Texas 76086
UID:e.2477.19121
SEQUENCE:3
DTSTAMP:20260424T095007Z
URL:http://business.parkercountychamber.com/events/details/candidate-forum-19121
END:VEVENT

END:VCALENDAR
