BEGIN:VCALENDAR
VERSION:2.0
PRODID:-//ChamberMaster//Event Calendar 2.0//EN
METHOD:PUBLISH
X-PUBLISHED-TTL:P3D
REFRESH-INTERVAL:P3D
CALSCALE:GREGORIAN
BEGIN:VEVENT
DTSTART:20240224T160000Z
DTEND:20240224T180000Z
X-MICROSOFT-CDO-ALLDAYEVENT:FALSE
SUMMARY:Candidate Forum
DESCRIPTION:Candidate Forum:\n\n\n\nCounty Chair\n\nJustice the Peace Races\n\nCommissioner Races\n\nSherriff\n\nConstable Races\n\nCounty Judge Races\n\nHouse of Representative District 60\n\nSenate District 30
X-ALT-DESC;FMTTYPE=text/html:Candidate Forum:<br />\n<br />\nCounty Chair<br />\nJustice the Peace Races<br />\nCommissioner Races<br />\nSherriff<br />\nConstable Races<br />\nCounty Judge Races<br />\nHouse of Representative District 60<br />\nSenate District 30
LOCATION:Doss Heritage and Cultural Center 1400 Texas Drive Weatherford\, Texas 76086
UID:e.2477.19122
SEQUENCE:3
DTSTAMP:20260424T082540Z
URL:http://business.parkercountychamber.com/events/details/candidate-forum-02-24-2024-19122
END:VEVENT

END:VCALENDAR
