BEGIN:VCALENDAR
VERSION:2.0
PRODID:-//ChamberMaster//Event Calendar 2.0//EN
METHOD:PUBLISH
X-PUBLISHED-TTL:P3D
REFRESH-INTERVAL:P3D
CALSCALE:GREGORIAN
BEGIN:VEVENT
DTSTART:20240111T170000Z
DTEND:20240111T173000Z
X-MICROSOFT-CDO-ALLDAYEVENT:FALSE
SUMMARY:CANCELED:Ribbon Cutting & Grand Opening - The Heidaway Art Gallery
DESCRIPTION:1/10 Canceled and will be rescheduled
X-ALT-DESC;FMTTYPE=text/html:1/10 Canceled and will be rescheduled&nbsp\;
LOCATION:119 North Main Weatherford\, Tx 76086
UID:e.2477.19128
SEQUENCE:3
DTSTAMP:20260424T095743Z
URL:http://business.parkercountychamber.com/events/details/canceled-ribbon-cutting-grand-opening-the-heidaway-art-gallery-19128
END:VEVENT

END:VCALENDAR
