BEGIN:VCALENDAR
VERSION:2.0
PRODID:-//ChamberMaster//Event Calendar 2.0//EN
METHOD:PUBLISH
X-PUBLISHED-TTL:P3D
REFRESH-INTERVAL:P3D
CALSCALE:GREGORIAN
BEGIN:VEVENT
DTSTART:20220406T170000Z
DTEND:20220406T180000Z
X-MICROSOFT-CDO-ALLDAYEVENT:FALSE
SUMMARY:Canceled-Governmental Affairs Committee Meeting
DESCRIPTION:Governmental Affairs Committee Meeting
X-ALT-DESC;FMTTYPE=text/html:Governmental Affairs Committee Meeting
LOCATION:Chamber Conference Room 100 Chuck Wagon Trail Willow Park
UID:e.2477.12015
SEQUENCE:3
DTSTAMP:20260425T154441Z
URL:http://business.parkercountychamber.com/events/details/canceled-governmental-affairs-committee-meeting-12015
END:VEVENT

END:VCALENDAR
