BEGIN:VCALENDAR
VERSION:2.0
PRODID:-//ChamberMaster//Event Calendar 2.0//EN
METHOD:PUBLISH
X-PUBLISHED-TTL:P3D
REFRESH-INTERVAL:P3D
CALSCALE:GREGORIAN
BEGIN:VEVENT
DTSTART;VALUE=DATE:20250219
DTEND;VALUE=DATE:20250220
TRANSP:TRANSPARENT
X-MICROSOFT-CDO-ALLDAYEVENT:TRUE
SUMMARY:Canceled due to projected forecast-Leadership Class - Industry Day
DESCRIPTION:
X-ALT-DESC;FMTTYPE=text/html:
LOCATION:
UID:e.2477.20003
SEQUENCE:3
DTSTAMP:20260423T115500Z
URL:http://business.parkercountychamber.com/events/details/canceled-due-to-projected-forecast-leadership-class-industry-day-20003
END:VEVENT

END:VCALENDAR
