BEGIN:VCALENDAR
VERSION:2.0
PRODID:-//ChamberMaster//Event Calendar 2.0//EN
METHOD:PUBLISH
X-PUBLISHED-TTL:P3D
REFRESH-INTERVAL:P3D
CALSCALE:GREGORIAN
BEGIN:VEVENT
DTSTART:20190626T160000Z
DTEND:20190626T183000Z
X-MICROSOFT-CDO-ALLDAYEVENT:FALSE
SUMMARY:Business Essentials Workshop - Facebook Zero
DESCRIPTION:Facebook Zero only wants friends and family in your newsfeed.\n\nGoodbye\, free business marketing.\n\nGuess what? You'll have to buy ads or pay to boost your posts.\n\nOr you can maintain your business' presence on this important marketing channel by attending this workshop.\n\nYou can't afford not to learn how to use Zero. Where else are you going to create brand awareness\, build your target market\, maintain those relationships you work so hard to cultivate?\n\nYou need Facebook and the only way you can use it without paying is to learn how to market on Zero.\n\nThis algorithm is going to change everything for business. It's like you're starting from   well\, zero.\n\nLisa Marie will\n\n\n	Explain how Facebook 0 affects your business\n	Teach you how to use Facebook another\, free way to get eyes on your company\n	Give you step-by-step directions how to do it.\n\n\nFrom here on out\, everything you do for your business on Facebook is wasted time unless you pay or take this seminar. You'll be so glad you learned how to market for free on Zero.\n\nRegister today. Space is limited and every business person needs to know this powerful information.\n\nBring your mobile device and laptop for hands-on training.\n\nLunch is NOT included - you are welcome to bring your lunch.
X-ALT-DESC;FMTTYPE=text/html:<p><strong>Facebook Zero only wants friends and family in your newsfeed.</strong></p>\n\n<p><strong>Goodbye\, free business marketing.</strong></p>\n\n<p>Guess what? You&rsquo\;ll have to<strong>&nbsp\;buy ads or pay</strong>&nbsp\;to boost your posts.</p>\n\n<p>Or you can maintain your business&rsquo\; presence on this important marketing channel by attending this workshop.</p>\n\n<p>You can&rsquo\;t afford not to learn how to use Zero. Where else are you going to create brand awareness\, build your target market\, maintain those relationships you work so hard to cultivate?</p>\n\n<p><strong>You need Facebook and the only way you can use it without paying is to learn how to market on Zero.</strong></p>\n\n<p>This algorithm is going to change everything for business. It&rsquo\;s like you&rsquo\;re starting from &hellip\; well\, zero.</p>\n\n<p>Lisa Marie will</p>\n\n<ul>\n	<li>Explain how Facebook 0 affects your business</li>\n	<li>Teach you how to use Facebook another\, free way to get eyes on your company</li>\n	<li>Give you step-by-step directions how to do it.</li>\n</ul>\n\n<p>From here on out\, everything you do for your business on Facebook is wasted time unless you pay or take this seminar. You&rsquo\;ll be so glad you learned how to market for free on Zero.</p>\n\n<p>Register today.&nbsp\;<strong>Space is limited</strong>&nbsp\;and every business person needs to know this powerful information.</p>\n\n<p>Bring your mobile device and laptop for hands-on training.</p>\n\n<p><strong>Lunch is NOT included&nbsp\;</strong>- you are welcome to bring your lunch.</p>\n
LOCATION:Legacy Empowerment Center 515 Stoneridge Trl Weatherford\, TX 76087
UID:e.2477.13542
SEQUENCE:3
DTSTAMP:20260424T141108Z
URL:http://business.parkercountychamber.com/events/details/business-essentials-workshop-facebook-zero-13542
END:VEVENT

END:VCALENDAR
