BEGIN:VCALENDAR
VERSION:2.0
PRODID:-//ChamberMaster//Event Calendar 2.0//EN
METHOD:PUBLISH
X-PUBLISHED-TTL:P3D
REFRESH-INTERVAL:P3D
CALSCALE:GREGORIAN
BEGIN:VEVENT
DTSTART:20260421T200000Z
DTEND:20260421T213000Z
X-MICROSOFT-CDO-ALLDAYEVENT:FALSE
SUMMARY:Business & Beyond
DESCRIPTION:Topic  Building Brands that Stick & Designs that Click.\n\n \n\nHow to be authentic and cultivate connections in the age of AI with branding boss and graphic artist Sharlotte Bouniol -  GB Graphix
X-ALT-DESC;FMTTYPE=text/html:Topic&nbsp\; Building Brands that Stick &amp\; Designs that Click.<br />\n&nbsp\;<br />\n<span style="font-family:aptos\,sans-serif\;"><span style="font-size:12.0pt\;">How to be authentic and cultivate connections in the age of AI with branding boss and graphic artist Sharlotte Bouniol -&nbsp\; GB Graphix</span></span>
LOCATION:First Bank Texas Willow Park
UID:e.2477.21175
SEQUENCE:3
DTSTAMP:20260421T013635Z
URL:http://business.parkercountychamber.com/events/details/business-beyond-21175
END:VEVENT

END:VCALENDAR
