BEGIN:VCALENDAR
VERSION:2.0
PRODID:-//ChamberMaster//Event Calendar 2.0//EN
METHOD:PUBLISH
X-PUBLISHED-TTL:P3D
REFRESH-INTERVAL:P3D
CALSCALE:GREGORIAN
BEGIN:VEVENT
DTSTART:20250617T200000Z
DTEND:20250617T213000Z
X-MICROSOFT-CDO-ALLDAYEVENT:FALSE
SUMMARY:Business & Beyond
DESCRIPTION:Transforming Your Work: AI-Driven Growth for Professionals & Businesses\n\nUnleash the next wave of productivity and profit with this fast-paced 55-minute keynote designed for executives\, entrepreneurs\, and team leaders who refuse to be left behind by the AI revolution.\n\nAI-Certified Growth Strategist Nick Craven cuts through the hype to deliver a clear\, actionable roadmap that shows exactly how to "AI-ify" any organization from solo practice to enterprise in six practical steps. Attendees will discover:\n\n\n	The Roadmap to AI-ifying Your Business   where to start\, what to avoid\, and how to stay future-proof.\n	Four Key AI Processes that are already transforming marketing\, operations\, and customer experience for companies worldwide.\n	Real-world demos of LLMs\, conversational agents\, and automated workflows that slash costs while elevating personalization.\n	A proven 6-Step Implementation Framework that makes adoption easy\, affordable\, and repeatable no PhD required.\n	The "why now" data point over half of global businesses are actively experimenting with AI and what that means for competitive advantage.\n\nParticipants leave with a complimentary AI Opportunity Assessment invitation and a crystal-clear action plan they can execute the very next day to future-proof revenue\, energize teams\, and delight customers.\n\nIf you're ready to transform and watch your organization thrive in the age of intelligent automation\, book this keynote presentation in your schedule today because tomorrow's success starts now.
X-ALT-DESC;FMTTYPE=text/html:<strong><span style="color:black\;"><span style="font-family:arial\,sans-serif\;"><span style="font-size:19.0pt\;">Transforming Your Work: AI-Driven Growth for Professionals &amp\; Businesses</span></span></span></strong><br />\n<span style="color:black\;"><span style="font-family:arial\,sans-serif\;"><span style="font-size:11.0pt\;">Unleash the next wave of productivity and profit with this fast-paced 55-minute keynote designed for executives\, entrepreneurs\, and team leaders who refuse to be left behind by the AI revolution.</span></span></span><br />\n<span style="color:black\;"><span style="font-family:arial\,sans-serif\;"><span style="font-size:11.0pt\;">AI-Certified Growth Strategist <strong>Nick Craven</strong> cuts through the hype to deliver a clear\, actionable roadmap that shows exactly how to &ldquo\;AI-ify&rdquo\; any organization&mdash\;from solo practice to enterprise&mdash\;in six practical steps. Attendees will discover:</span></span></span>\n\n<ul>\n	<li style="color:black\;margin-top:12.0pt\;margin-bottom:12.0pt\;vertical-align:baseline\;font-variant-numeric:normal\;font-variant-east-asian:normal\;font-variant-alternates:normal\;"><strong><span style="font-family:arial\,sans-serif\;"><span style="font-size:11.0pt\;">The Roadmap to AI-ifying Your Business</span></span></strong><span style="font-family:arial\,sans-serif\;"><span style="font-size:11.0pt\;"> &ndash\; where to start\, what to avoid\, and how to stay future-proof.</span></span></li>\n	<li style="color:black\;margin-top:0in\;margin-bottom:12.0pt\;vertical-align:baseline\;font-variant-numeric:normal\;font-variant-east-asian:normal\;font-variant-alternates:normal\;"><strong><span style="font-family:arial\,sans-serif\;"><span style="font-size:11.0pt\;">Four Key AI Processes</span></span></strong><span style="font-family:arial\,sans-serif\;"><span style="font-size:11.0pt\;"> that are already transforming marketing\, operations\, and customer experience for companies worldwide.</span></span></li>\n	<li style="color:black\;margin-top:0in\;margin-bottom:12.0pt\;vertical-align:baseline\;font-variant-numeric:normal\;font-variant-east-asian:normal\;font-variant-alternates:normal\;"><span style="font-family:arial\,sans-serif\;"><span style="font-size:11.0pt\;">Real-world demos of <strong>LLMs\, conversational agents\, and automated workflows</strong> that slash costs while elevating personalization.</span></span></li>\n	<li style="color:black\;margin-top:0in\;margin-bottom:12.0pt\;vertical-align:baseline\;font-variant-numeric:normal\;font-variant-east-asian:normal\;font-variant-alternates:normal\;"><span style="font-family:arial\,sans-serif\;"><span style="font-size:11.0pt\;">A proven <strong>6-Step Implementation Framework</strong> that makes adoption easy\, affordable\, and repeatable&mdash\;no PhD required.</span></span></li>\n	<li style="color:black\;margin-top:0in\;margin-bottom:12.0pt\;vertical-align:baseline\;font-variant-numeric:normal\;font-variant-east-asian:normal\;font-variant-alternates:normal\;"><span style="font-family:arial\,sans-serif\;"><span style="font-size:11.0pt\;">The <strong>&ldquo\;why now&rdquo\;</strong> data point&mdash\;over half of global businesses are actively experimenting with AI&mdash\;and what that means for competitive advantage.</span></span></li>\n</ul>\n<span style="color:black\;"><span style="font-family:arial\,sans-serif\;"><span style="font-size:11.0pt\;">Participants leave with a complimentary <strong>AI Opportunity Assessment</strong> invitation and a crystal-clear action plan they can execute the very next day to future-proof revenue\, energize teams\, and delight customers.</span></span></span><br />\n<span style="color:black\;"><span style="font-family:arial\,sans-serif\;"><span style="font-size:11.0pt\;">If you&rsquo\;re ready to transform and watch your organization thrive in the age of intelligent automation\, <strong>book this keynote presentation in your schedule today</strong>&mdash\;because tomorrow&rsquo\;s success starts now.</span></span></span><br />\n&nbsp\;
LOCATION:Weatherford College Emerging Technologies and Workforce Building 225 College Park Drive Weatherford
UID:e.2477.20411
SEQUENCE:3
DTSTAMP:20260423T072317Z
URL:http://business.parkercountychamber.com/events/details/business-beyond-20411
END:VEVENT

END:VCALENDAR
