BEGIN:VCALENDAR
VERSION:2.0
PRODID:-//ChamberMaster//Event Calendar 2.0//EN
METHOD:PUBLISH
X-PUBLISHED-TTL:P3D
REFRESH-INTERVAL:P3D
CALSCALE:GREGORIAN
BEGIN:VEVENT
DTSTART:20220430T130000Z
DTEND:20220430T150000Z
X-MICROSOFT-CDO-ALLDAYEVENT:FALSE
SUMMARY:Breakfast with Friends: Fundraiser Fellowship
DESCRIPTION:You are invited:\n\n\n\nLakeshore Baptist Church\, in partnership with Flames Seafood Restaurant will host a community breakfast Saturday\, April 30\, 2022 from 8:00 a.m. to 10:00 a.m. at Flames Seafood Restaurant located at 1917 Martin Dr.\, Weatherford.\n\n\n\nMenu: pancakes\, scrambled eggs\, sausage and a beverage.  To-go orders are available.\n\n\n\nSuggested donation of $10.00 per meal.
X-ALT-DESC;FMTTYPE=text/html:You are invited:<br />\n<br />\nLakeshore Baptist Church\, in partnership with Flames Seafood Restaurant will host a community breakfast Saturday\, April 30\, 2022 from 8:00 a.m. to 10:00 a.m. at Flames Seafood Restaurant located at 1917 Martin Dr.\, Weatherford.<br />\n<br />\nMenu: pancakes\, scrambled eggs\, sausage and a beverage.&nbsp\; To-go orders are available.<br />\n<br />\nSuggested donation of $10.00 per meal.
LOCATION:Flames Seafood Restaurant 1917 Martin Dr. Weatherford TX 76086
UID:e.2477.17744
SEQUENCE:3
DTSTAMP:20260425T154234Z
URL:http://business.parkercountychamber.com/events/details/breakfast-with-friends-fundraiser-fellowship-17744
END:VEVENT

END:VCALENDAR
