BEGIN:VCALENDAR
VERSION:2.0
PRODID:-//ChamberMaster//Event Calendar 2.0//EN
METHOD:PUBLISH
X-PUBLISHED-TTL:P3D
REFRESH-INTERVAL:P3D
CALSCALE:GREGORIAN
BEGIN:VEVENT
DTSTART:20241006T190000Z
DTEND:20241006T210000Z
X-MICROSOFT-CDO-ALLDAYEVENT:FALSE
SUMMARY:Bowlio to Eradicate Polio with Rotary Club of Aledo
DESCRIPTION:Join us for a fun and impactful event to help eradicate polio! Thanks to our partnership with the Bill Gates Foundation\, every $1 in proceeds will be TRIPLED! ??\n\nBring your friends\, your company\, or your family for a fun afternoon of bowling for a good cause!\n\nEvent Details: ?? Sunday\, October 6 ?? 2-4 PM ?? Film Alley\, 825 E Interstate 20\, Weatherford\, TX 76086\n\nSponsorship and Registration Options:\n\n\n	Lane Sponsorship: $250 (Includes 4 bowlers + lane signage)\n	Individual Bowlers: $30\n	Team of 4: $120\n	Lane Signage Only: $150\n	Event Sponsor: $500 (Advertising\, logo on Rotary signs\, 30-sec commercial\, social media post)\n\n\nAll proceeds above event expenses will be donated to the Rotary International Polio Plus fund.\n\n?? Register today and make your impact: https://aledorotary.org/Stories/bowlio-to-eradicate-polio\n\nFor more information\, contact: ?? Kella Price: drkellabprice@gmail.com ?? 252-622-8119\n\nVisit our website: www.aledorotary.org\n?
X-ALT-DESC;FMTTYPE=text/html:<div>\n<p>Join us for a fun and impactful event to help eradicate polio! Thanks to our partnership with the Bill Gates Foundation\, every $1 in proceeds will be TRIPLED! ??<br />\nBring your friends\, your company\, or your family for a fun afternoon of bowling for a good cause!</p>\n\n<p><strong>Event Details:</strong> ?? <strong>Sunday\, October 6</strong> ?? <strong>2-4 PM</strong> ?? <strong>Film Alley\, 825 E Interstate 20\, Weatherford\, TX 76086</strong></p>\n\n<p><strong>Sponsorship and Registration Options:</strong></p>\n\n<ul>\n	<li><strong>Lane Sponsorship:</strong> $250 (Includes 4 bowlers + lane signage)</li>\n	<li><strong>Individual Bowlers:</strong> $30</li>\n	<li><strong>Team of 4:</strong> $120</li>\n	<li><strong>Lane Signage Only:</strong> $150</li>\n	<li><strong>Event Sponsor:</strong> $500 (Advertising\, logo on Rotary signs\, 30-sec commercial\, social media post)</li>\n</ul>\n\n<p>All proceeds above event expenses will be donated to the Rotary International Polio Plus fund.</p>\n\n<p>?? Register today and make your impact:&nbsp\;<a href="https://aledorotary.org/Stories/bowlio-to-eradicate-polio">https://aledorotary.org/Stories/bowlio-to-eradicate-polio</a></p>\n\n<p>For more information\, contact: ?? Kella Price: drkellabprice@gmail.com ?? 252-622-8119</p>\n\n<p>Visit our website: <a href="http://www.aledorotary.org" rel="noopener" target="_new">www.aledorotary.org</a></p>\n?</div>\n
LOCATION:Film Alley Weatherford 825 Interstate 20 Frontage Rd\, Weatherford\, TX 76087
UID:e.2477.19753
SEQUENCE:3
DTSTAMP:20260423T212441Z
URL:http://business.parkercountychamber.com/events/details/bowlio-to-eradicate-polio-with-rotary-club-of-aledo-19753
END:VEVENT

END:VCALENDAR
