BEGIN:VCALENDAR
VERSION:2.0
PRODID:-//ChamberMaster//Event Calendar 2.0//EN
METHOD:PUBLISH
X-PUBLISHED-TTL:P3D
REFRESH-INTERVAL:P3D
CALSCALE:GREGORIAN
BEGIN:VEVENT
DTSTART:20210704T230000Z
DTEND:20210705T040000Z
X-MICROSOFT-CDO-ALLDAYEVENT:FALSE
SUMMARY:Boomin' 4th 2021
DESCRIPTION:Flags waving\, footballs being tossed through the air\, guitars strumming and thousands of dollars' worth of fireworks exploding over the top of Gene Voyles park in Hudson Oaks. Every year on Independence Day\, the community comes together for one of the largest single events in Parker County\, Boomin' 4th\, to celebrate freedom\, family and good clean fun. We are excited to announce that we will be back in the park for 2021!\n\nThe highly choreographed fireworks show is one of the best low and high aerial displays in North Texas brought to you by Southwest Ford and Nextlink. Headlining this year's entertainment brought to you by Home Zone\, will be announced soon. Back by popular demand Hudson Oaks has partnered with 92.1 Hank FM to allow folks to hear the choreographed music for the fireworks portion of the show from any streaming device.
X-ALT-DESC;FMTTYPE=text/html:<div>\n<p>Flags waving\, footballs being tossed through the air\, guitars strumming and thousands of dollars&rsquo\; worth of fireworks exploding over the top of Gene Voyles park in Hudson Oaks. Every year on Independence Day\, the community comes together for one of the largest single events in Parker County\, Boomin&rsquo\; 4th\, to celebrate freedom\, family and good clean fun. We are excited to announce that we will be back in the park for 2021!</p>\n\n<p>The highly choreographed fireworks show is one of the best low and high aerial displays in North Texas brought to you by Southwest Ford and Nextlink. Headlining this year&rsquo\;s entertainment brought to you by Home Zone\, will be announced soon. Back by popular demand Hudson Oaks has partnered with 92.1 Hank FM to allow folks to hear the choreographed music for the fireworks portion of the show from any streaming device.</p>\n</div>\n
LOCATION:Gene Voyles Park Hudson Oaks\, TX 76087
UID:e.2477.14886
SEQUENCE:3
DTSTAMP:20260426T040533Z
URL:http://business.parkercountychamber.com/events/details/boomin-4th-2021-14886
END:VEVENT

END:VCALENDAR
