BEGIN:VCALENDAR
VERSION:2.0
PRODID:-//ChamberMaster//Event Calendar 2.0//EN
METHOD:PUBLISH
X-PUBLISHED-TTL:P3D
REFRESH-INTERVAL:P3D
CALSCALE:GREGORIAN
BEGIN:VEVENT
DTSTART:20250704T220000Z
DTEND:20250705T030000Z
X-MICROSOFT-CDO-ALLDAYEVENT:FALSE
SUMMARY:2025 Boomin' 4th
DESCRIPTION:Celebrate Independence Day at Hudson Oaks' Boomin' 4th event!\n\n \n\nHeld at Gene L. Voyles Park in Hudson Oaks\, this annual gathering promises an unforgettable evening of freedom\, family\, and fun.\n\n \n\nExperience a mesmerizing fireworks display\, sponsored by SouthWest Ford! Groove to live music thanks to Home Zone\, and explore the lively Carnival & Kid Zone\, courtesy of Zactax and First Bank Texas. Satisfy your taste buds with delectable treats from the Food Court\, sponsored by H-E-B.\n\n \n\nBring your lawn chairs and coolers to enjoy the festivities\, but remember\, canopies\, fireworks\, grills\, tents\, and glass are prohibited.\n\n \n\nTune into 92.1 Hank FM for a perfectly synchronized fireworks experience.\n\n \n\nDon't miss out on this spectacular community celebration!
X-ALT-DESC;FMTTYPE=text/html:<div>Celebrate Independence Day at Hudson Oaks&#39\; Boomin&#39\; 4th event!<br />\n&nbsp\;</div>\n\n<div>Held at Gene L. Voyles Park in Hudson Oaks\, this annual gathering promises an unforgettable evening of freedom\, family\, and fun.<br />\n&nbsp\;</div>\n\n<div>Experience a mesmerizing fireworks display\, sponsored by SouthWest Ford! Groove to live music thanks to Home Zone\, and explore the lively Carnival &amp\; Kid Zone\, courtesy of Zactax and First Bank Texas. Satisfy your taste buds with delectable treats from the Food Court\, sponsored by H-E-B.<br />\n&nbsp\;</div>\n\n<div>Bring your lawn chairs and coolers to enjoy the festivities\, but remember\, canopies\, fireworks\, grills\, tents\, and glass are prohibited.<br />\n&nbsp\;</div>\n\n<div>Tune into 92.1 Hank FM for a perfectly synchronized fireworks experience.<br />\n&nbsp\;</div>\n\n<div>Don&rsquo\;t miss out on this spectacular community celebration!</div>\n
LOCATION:Gene L. Voyles Park
UID:e.2477.20408
SEQUENCE:3
DTSTAMP:20260423T042541Z
URL:http://business.parkercountychamber.com/events/details/boomin-4th-07-04-2025-20408
END:VEVENT

END:VCALENDAR
