BEGIN:VCALENDAR
VERSION:2.0
PRODID:-//ChamberMaster//Event Calendar 2.0//EN
METHOD:PUBLISH
X-PUBLISHED-TTL:P3D
REFRESH-INTERVAL:P3D
CALSCALE:GREGORIAN
BEGIN:VEVENT
DTSTART:20211207T210000Z
DTEND:20211208T000000Z
X-MICROSOFT-CDO-ALLDAYEVENT:FALSE
SUMMARY:Body By Defying Time Event
DESCRIPTION:Experience the very best that RF and HIFEM technology has to offer with the HOTTEST and most exclusive demonstrations of the year... And exclusive pricing!! On our entire BTL line\, including Emsella\, Emsculpt Neo and Exilis. Join us to learn how non-invasive body contouring can change your life for the better. You are not going to believe what we can do! \n\n \n#TheBestYou\n\nDefying Time
X-ALT-DESC;FMTTYPE=text/html:<div>Experience the very best that RF and HIFEM technology has to offer with the HOTTEST and most exclusive demonstrations of the year... And exclusive pricing!! On our entire BTL line\, including Emsella\, Emsculpt Neo and Exilis. Join us to learn how non-invasive body contouring can change your life for the better. You are not going to believe what we can do!&nbsp\;<br />\n&nbsp\;</div>\n#TheBestYou<br />\nDefying Time
LOCATION:5011 E Interstate 20 Service Rd S\, Willow Park\, TX 76087
UID:e.2477.15765
SEQUENCE:3
DTSTAMP:20260425T211616Z
URL:http://business.parkercountychamber.com/events/details/body-by-defying-time-15765
END:VEVENT

END:VCALENDAR
