BEGIN:VCALENDAR
VERSION:2.0
PRODID:-//ChamberMaster//Event Calendar 2.0//EN
METHOD:PUBLISH
X-PUBLISHED-TTL:P3D
REFRESH-INTERVAL:P3D
CALSCALE:GREGORIAN
BEGIN:VEVENT
DTSTART:20220126T180000Z
DTEND:20220126T190000Z
X-MICROSOFT-CDO-ALLDAYEVENT:FALSE
SUMMARY:Board of Directors Meeting
DESCRIPTION:Board of Directors Meeting
X-ALT-DESC;FMTTYPE=text/html:Board of Directors Meeting
LOCATION:First Bank Texas - Willow Park
UID:e.2477.16404
SEQUENCE:3
DTSTAMP:20260425T201237Z
URL:http://business.parkercountychamber.com/events/details/board-of-directors-meeting-01-26-2022-16404
END:VEVENT

END:VCALENDAR
