BEGIN:VCALENDAR
VERSION:2.0
PRODID:-//ChamberMaster//Event Calendar 2.0//EN
METHOD:PUBLISH
X-PUBLISHED-TTL:P3D
REFRESH-INTERVAL:P3D
CALSCALE:GREGORIAN
BEGIN:VEVENT
DTSTART:20231207T141500Z
DTEND:20231207T161500Z
X-MICROSOFT-CDO-ALLDAYEVENT:FALSE
SUMMARY:BNI Profit Builders Weekly Meeting
DESCRIPTION:BNI Profit Builders - Visit us and see how referral marketing can help you grow your business.
X-ALT-DESC;FMTTYPE=text/html:BNI Profit Builders - Visit us and see how referral marketing can help you grow your business.
LOCATION:North Side Baptist Church Meeting Room 910 North Main Street Weatherford\, TX 76086 Park in the First Street parking lot across from the Church and come through the doors closest to Main Street. On the North side of the Church building.
UID:e.2477.18882
SEQUENCE:3
DTSTAMP:20260424T112339Z
URL:http://business.parkercountychamber.com/events/details/bni-profit-builders-weekly-meeting-12-07-2023-18882
END:VEVENT

END:VCALENDAR
