BEGIN:VCALENDAR
VERSION:2.0
PRODID:-//ChamberMaster//Event Calendar 2.0//EN
METHOD:PUBLISH
X-PUBLISHED-TTL:P3D
REFRESH-INTERVAL:P3D
CALSCALE:GREGORIAN
BEGIN:VEVENT
DTSTART:20240525T170000Z
DTEND:20240525T200000Z
X-MICROSOFT-CDO-ALLDAYEVENT:FALSE
SUMMARY:Big Country Veterans Memorial Day/Open House
DESCRIPTION:Come out to a FREE\, FAMILY Memorial Day/Open House Event on May 25\, 2024\n\nListen to live music by 'American Idol' Cate Gartner\, enjoy food and refreshments\, get your face painted\, play in the inflatable obstacle course\, and more!
X-ALT-DESC;FMTTYPE=text/html:<span style="color:rgb(66\, 66\, 66)\; font-family:arial\,helvetica\,sans-serif\; font-size:12px">Come out to a FREE\, FAMILY Memorial Day/Open House Event on May 25\, 2024</span><br />\nListen to live music by &#39\;American Idol&#39\; Cate Gartner\, enjoy food and refreshments\, get your face painted\, play in the inflatable obstacle course\, and more!<br />\n<br />\n<br />\n&nbsp\;
LOCATION:165 Center Point Rd\, Ste 107 Weatherford\, TX 76087
UID:e.2477.19397
SEQUENCE:3
DTSTAMP:20260424T041252Z
URL:http://business.parkercountychamber.com/events/details/big-country-veterans-memorial-day-open-house-19397
END:VEVENT

END:VCALENDAR
