BEGIN:VCALENDAR
VERSION:2.0
PRODID:-//ChamberMaster//Event Calendar 2.0//EN
METHOD:PUBLISH
X-PUBLISHED-TTL:P3D
REFRESH-INTERVAL:P3D
CALSCALE:GREGORIAN
BEGIN:VEVENT
DTSTART:20250501T223000Z
DTEND:20250502T000000Z
X-MICROSOFT-CDO-ALLDAYEVENT:FALSE
SUMMARY:Bi-Annual Student Art Exhibition
DESCRIPTION:Bi-Annual Student Art Exhibition Reception is from 5:30 P.M. to 7:00 P.M.\n\n\n\nContact Rebecca James and Eben Hall for more information.\n\nrjames@wc.edu | 817-598-6231 & ehall@wc.edu
X-ALT-DESC;FMTTYPE=text/html:Bi-Annual Student Art Exhibition Reception is from 5:30 P.M. to 7:00 P.M.<br />\n<br />\nContact Rebecca James and Eben Hall for more information.<br />\n<a href="mailto:rjames@wc.edu\,">rjames@wc.edu</a> | 817-598-6231 &amp\; <a href="mailto:ehall@wc.edu\,">ehall@wc.edu</a>
LOCATION:Weatherford College Alkek Fine Arts Center | Texas Hall 225 College Park Dr. Weatherford\, TX 76086
UID:e.2477.20340
SEQUENCE:3
DTSTAMP:20260423T072422Z
URL:http://business.parkercountychamber.com/events/details/bi-annual-student-art-exhibition-20340
END:VEVENT

END:VCALENDAR
