BEGIN:VCALENDAR
VERSION:2.0
PRODID:-//ChamberMaster//Event Calendar 2.0//EN
METHOD:PUBLISH
X-PUBLISHED-TTL:P3D
REFRESH-INTERVAL:P3D
CALSCALE:GREGORIAN
BEGIN:VEVENT
DTSTART:20250223T000000Z
DTEND:20250223T040000Z
X-MICROSOFT-CDO-ALLDAYEVENT:FALSE
SUMMARY:BCV Gala
DESCRIPTION:The 2nd Annual BCV Gala is taking place on February 22\, 2025 at the stunning Dove Ridge Vineyard.\n\n\n\nThis extraordinary evening will feature compelling stories\, a plated gourmet meal\, whisky tasting\, live music\, a live and silent auction\, open bar\, and more.  \n\nThis is an event that you don't want to miss!\n\n\n\nTo learn more\, go to\n\nhttps://www.bigcountryveterans.org/2025-bcv-gala
X-ALT-DESC;FMTTYPE=text/html:<span style="color:rgb(34\, 34\, 34)\; font-family:arial\,helvetica\,sans-serif\; font-size:small">The 2nd Annual BCV Gala is taking place on February 22\, 2025 at the stunning Dove Ridge Vineyard.</span><br />\n<br />\n<span style="color:rgb(34\, 34\, 34)\; font-family:arial\,helvetica\,sans-serif\; font-size:small">This extraordinary evening will feature compelling stories\, a plated gourmet meal\, whisky tasting\, live music\, a live and silent auction\,&nbsp\;open bar\, and more. &nbsp\;</span><br />\n<span style="color:rgb(34\, 34\, 34)\; font-family:arial\,helvetica\,sans-serif\; font-size:small">This is an event that you don&#39\;t want to miss!</span><br />\n<br />\n<span style="color:rgb(34\, 34\, 34)\; font-family:arial\,helvetica\,sans-serif\; font-size:small">To learn more\, go to</span><br />\n<a href="https://www.bigcountryveterans.org/2025-bcv-gala" style="color: rgb(17\, 85\, 204)\; font-family: Arial\, Helvetica\, sans-serif\; font-size: small\;" target="_blank">https://www.bigcountryveterans.org/2025-bcv-gala</a>
LOCATION:Dove Ridge Vineyard 6000 Tucker Drive Weatherford\, TX 76085
UID:e.2477.20120
SEQUENCE:3
DTSTAMP:20260423T115407Z
URL:http://business.parkercountychamber.com/events/details/bcv-gala-20120
END:VEVENT

END:VCALENDAR
