BEGIN:VCALENDAR
VERSION:2.0
PRODID:-//ChamberMaster//Event Calendar 2.0//EN
METHOD:PUBLISH
X-PUBLISHED-TTL:P3D
REFRESH-INTERVAL:P3D
CALSCALE:GREGORIAN
BEGIN:VEVENT
DTSTART:20240418T160000Z
DTEND:20240418T180000Z
X-MICROSOFT-CDO-ALLDAYEVENT:FALSE
SUMMARY:Barron Wealth Strategies annual free Shred Event
DESCRIPTION:SAVE THE DATE!\n\nBarron Wealth Strategies is hosting its annual free Shred Event on Thursday\, April 18th from\n\n11:00 AM   1:00 PM.\n\nA light lunch will be provided\n\nProtect yourself from identity theft at our Shred Day!
X-ALT-DESC;FMTTYPE=text/html:<span style="color:rgb(5\, 5\, 5)\; font-family:segoe ui historic\,segoe ui\,helvetica\,arial\,sans-serif\; font-size:15px">SAVE THE DATE!<br />\nBarron Wealth Strategies is hosting its annual free Shred Event on Thursday\, April 18th from<br />\n11:00 AM &ndash\; 1:00 PM.</span><br />\n<span style="color:rgb(5\, 5\, 5)\; font-family:segoe ui historic\,segoe ui\,helvetica\,arial\,sans-serif\; font-size:15px">A light lunch will be provided</span><br />\n<span style="color:rgb(5\, 5\, 5)\; font-family:segoe ui historic\,segoe ui\,helvetica\,arial\,sans-serif\; font-size:15px">Protect yourself from identity theft at our Shred Day!</span>
LOCATION:1913 Martin Dr\, Weatherford\, TX\, United States\, Texas 76086
UID:e.2477.19398
SEQUENCE:3
DTSTAMP:20260424T054005Z
URL:http://business.parkercountychamber.com/events/details/barron-wealth-strategies-annual-free-shred-event-19398
END:VEVENT

END:VCALENDAR
