BEGIN:VCALENDAR
VERSION:2.0
PRODID:-//ChamberMaster//Event Calendar 2.0//EN
METHOD:PUBLISH
X-PUBLISHED-TTL:P3D
REFRESH-INTERVAL:P3D
CALSCALE:GREGORIAN
BEGIN:VEVENT
DTSTART:20250422T163000Z
DTEND:20250422T193000Z
X-MICROSOFT-CDO-ALLDAYEVENT:FALSE
SUMMARY:Barron Wealth Strategies annual free Shred Event
DESCRIPTION:Barron Wealth Strategies is hosting its annual FREE Shred Event on April 22nd from 11:30 AM   2:30 PM!\n\n \n\nSafely dispose of sensitive documents and protect yourself from identity theft. Stop by and shred for peace of mind it's completely FREE! A light lunch will also be provided!\n\n \n\n1913 Martin Dr. Weatherford\, TX 76086\n\n \n\nSpread the word and bring your documents!
X-ALT-DESC;FMTTYPE=text/html:<div>Barron Wealth Strategies is hosting its annual FREE Shred Event on April 22nd from 11:30 AM &ndash\; 2:30 PM!<br />\n&nbsp\;</div>\n\n<div>Safely dispose of sensitive documents and protect yourself from identity theft. Stop by and shred for peace of mind&mdash\;it&#39\;s completely FREE! A light lunch will also be provided!<br />\n&nbsp\;</div>\n\n<div>1913 Martin Dr. Weatherford\, TX 76086<br />\n&nbsp\;</div>\n\n<div>Spread the word and bring your documents!</div>\n
LOCATION:Barron Wealth Strategies - 1913 Martin Dr. Weatherford\, TX 76086
UID:e.2477.20314
SEQUENCE:3
DTSTAMP:20260423T091128Z
URL:http://business.parkercountychamber.com/events/details/barron-wealth-strategies-annual-free-shred-event-04-22-2025-20314
END:VEVENT

END:VCALENDAR
