BEGIN:VCALENDAR
VERSION:2.0
PRODID:-//ChamberMaster//Event Calendar 2.0//EN
METHOD:PUBLISH
X-PUBLISHED-TTL:P3D
REFRESH-INTERVAL:P3D
CALSCALE:GREGORIAN
BEGIN:VEVENT
DTSTART:20260721T130000Z
DTEND:20260721T150000Z
X-MICROSOFT-CDO-ALLDAYEVENT:FALSE
SUMMARY:Badges & Brews
DESCRIPTION:Come enjoy coffee with your Parker County Law Enforcement Officers on the 3rd Tuesday of each month.
X-ALT-DESC;FMTTYPE=text/html:Come enjoy coffee with your Parker County Law Enforcement Officers on the 3rd Tuesday of each month.
LOCATION:177 Center Point Road\, Weatherford\, Texas 76087
UID:e.2477.21458
SEQUENCE:3
DTSTAMP:20260421T032203Z
URL:http://business.parkercountychamber.com/events/details/badges-brews-07-21-2026-21458
END:VEVENT

END:VCALENDAR
