BEGIN:VCALENDAR
VERSION:2.0
PRODID:-//ChamberMaster//Event Calendar 2.0//EN
METHOD:PUBLISH
X-PUBLISHED-TTL:P3D
REFRESH-INTERVAL:P3D
CALSCALE:GREGORIAN
BEGIN:VEVENT
DTSTART:20260416T163000Z
DTEND:20260416T180000Z
X-MICROSOFT-CDO-ALLDAYEVENT:FALSE
SUMMARY:B2B Leads Group
DESCRIPTION:Subject:   Expand Your Network & Grow Your Business   Join Us April 16th!\n\nAre you ready to supercharge your business connections?    The Parker County Chamber Leads Group is your opportunity to build strong\, lasting relationships and gain quality referrals all over a delicious lunch at Los Vaqueros!\n\n  Date: Thursday\, April 16th\, 2025\n\n  Time: 11:30 AM - 1:00 PM (Registration is required\, Program at 12:00)\n\n  Location: Los Vaqueros\, 4899 E. Interstate 20 Service Rd\, Willow Park\n\n  Cost: Members - $15 prepaid | $25 at the door \n\nNon-Members - $25\n\nWhy attend?\n\n  Build valuable business relationships\n\n  Exchange quality referrals\n\n  Enjoy great food & great company\n\n  Be part of a thriving local business community\n\nSpots fill up fast RSVP now to lock in your seat at the best networking event in Parker County!  \n\n  Register here: www.ParkerCountyChamber.com\n\nLet's grow together! See you there!
X-ALT-DESC;FMTTYPE=text/html:<strong style="color: rgb(51\, 51\, 51)\; font-family: sans-serif\, Arial\, Verdana\, &quot\;Trebuchet MS&quot\;\; font-size: 13px\;"><span style="font-family: arial\, sans-serif\;"><span style="font-size: 10pt\;">Subject:</span></span></strong><span style="color: rgb(51\, 51\, 51)\; font-family: sans-serif\, Arial\, Verdana\, &quot\;Trebuchet MS&quot\;\; font-size: 13px\; background-color: rgb(255\, 255\, 255)\;">&nbsp\;</span><span style="color: rgb(51\, 51\, 51)\; font-family: sans-serif\, Arial\, Verdana\, &quot\;Trebuchet MS&quot\;\; font-size: 13px\;"><span style="font-family: &quot\;segoe ui emoji&quot\;\, sans-serif\;"><span style="font-size: 10pt\;">&#128640\;</span></span></span><span style="color: rgb(51\, 51\, 51)\; font-family: sans-serif\, Arial\, Verdana\, &quot\;Trebuchet MS&quot\;\; font-size: 13px\;"><span style="font-family: arial\, sans-serif\;"><span style="font-size: 10pt\;">&nbsp\;Expand Your Network &amp\; Grow Your Business &ndash\; Join Us April 16th!<br />\nAre you ready to supercharge your business connections?&nbsp\;</span></span></span><span style="color: rgb(51\, 51\, 51)\; font-family: sans-serif\, Arial\, Verdana\, &quot\;Trebuchet MS&quot\;\; font-size: 13px\;"><span style="font-family: &quot\;segoe ui emoji&quot\;\, sans-serif\;"><span style="font-size: 10pt\;">&#128188\;&#10024\;</span></span></span><span style="color: rgb(51\, 51\, 51)\; font-family: sans-serif\, Arial\, Verdana\, &quot\;Trebuchet MS&quot\;\; font-size: 13px\;"><span style="font-family: arial\, sans-serif\;"><span style="font-size: 10pt\;">&nbsp\;The&nbsp\;<strong>Parker County Chamber Leads Group</strong>&nbsp\;is your opportunity to build strong\, lasting relationships and gain&nbsp\;<strong>quality referrals</strong>&mdash\;all over a delicious lunch at&nbsp\;<strong>Los Vaqueros</strong>!</span></span></span><br style="color: rgb(51\, 51\, 51)\; font-family: sans-serif\, Arial\, Verdana\, &quot\;Trebuchet MS&quot\;\; font-size: 13px\;" />\n<span style="color: rgb(51\, 51\, 51)\; font-family: sans-serif\, Arial\, Verdana\, &quot\;Trebuchet MS&quot\;\; font-size: 13px\;"><span style="font-family: &quot\;segoe ui emoji&quot\;\, sans-serif\;"><span style="font-size: 10pt\;">&#128197\;</span></span></span><span style="color: rgb(51\, 51\, 51)\; font-family: sans-serif\, Arial\, Verdana\, &quot\;Trebuchet MS&quot\;\; font-size: 13px\;"><span style="font-family: arial\, sans-serif\;"><span style="font-size: 10pt\;">&nbsp\;<strong>Date:&nbsp\;</strong>Thursday\, April 16th\, 2025</span></span></span><br style="color: rgb(51\, 51\, 51)\; font-family: sans-serif\, Arial\, Verdana\, &quot\;Trebuchet MS&quot\;\; font-size: 13px\;" />\n<span style="color: rgb(51\, 51\, 51)\; font-family: sans-serif\, Arial\, Verdana\, &quot\;Trebuchet MS&quot\;\; font-size: 13px\;"><span style="font-family: &quot\;segoe ui emoji&quot\;\, sans-serif\;"><span style="font-size: 10pt\;">&#9200\;</span></span></span><span style="color: rgb(51\, 51\, 51)\; font-family: sans-serif\, Arial\, Verdana\, &quot\;Trebuchet MS&quot\;\; font-size: 13px\;"><span style="font-family: arial\, sans-serif\;"><span style="font-size: 10pt\;">&nbsp\;<strong>Time:</strong>&nbsp\;11:30 AM - 1:00 PM (Registration is required\, Program at 12:00)</span></span></span><br style="color: rgb(51\, 51\, 51)\; font-family: sans-serif\, Arial\, Verdana\, &quot\;Trebuchet MS&quot\;\; font-size: 13px\;" />\n<span style="color: rgb(51\, 51\, 51)\; font-family: sans-serif\, Arial\, Verdana\, &quot\;Trebuchet MS&quot\;\; font-size: 13px\;"><span style="font-family: &quot\;segoe ui emoji&quot\;\, sans-serif\;"><span style="font-size: 10pt\;">&#128205\;</span></span></span><span style="color: rgb(51\, 51\, 51)\; font-family: sans-serif\, Arial\, Verdana\, &quot\;Trebuchet MS&quot\;\; font-size: 13px\;"><span style="font-family: arial\, sans-serif\;"><span style="font-size: 10pt\;">&nbsp\;<strong>Location:</strong>&nbsp\;Los Vaqueros\, 4899 E. Interstate 20 Service Rd\, Willow Park</span></span></span><br style="color: rgb(51\, 51\, 51)\; font-family: sans-serif\, Arial\, Verdana\, &quot\;Trebuchet MS&quot\;\; font-size: 13px\;" />\n<span style="color: rgb(51\, 51\, 51)\; font-family: sans-serif\, Arial\, Verdana\, &quot\;Trebuchet MS&quot\;\; font-size: 13px\;"><span style="font-family: &quot\;segoe ui emoji&quot\;\, sans-serif\;"><span style="font-size: 10pt\;">&#128176\;</span></span></span><span style="color: rgb(51\, 51\, 51)\; font-family: sans-serif\, Arial\, Verdana\, &quot\;Trebuchet MS&quot\;\; font-size: 13px\;"><span style="font-family: arial\, sans-serif\;"><span style="font-size: 10pt\;">&nbsp\;<strong>Cost:</strong>&nbsp\;Members - $15 prepaid | $25 at the door&nbsp\;<br />\nNon-Members - $25<br />\nWhy attend?</span></span></span><br style="color: rgb(51\, 51\, 51)\; font-family: sans-serif\, Arial\, Verdana\, &quot\;Trebuchet MS&quot\;\; font-size: 13px\;" />\n<span style="color: rgb(51\, 51\, 51)\; font-family: sans-serif\, Arial\, Verdana\, &quot\;Trebuchet MS&quot\;\; font-size: 13px\;"><span style="font-family: &quot\;segoe ui emoji&quot\;\, sans-serif\;"><span style="font-size: 10pt\;">&#9989\;</span></span></span><span style="color: rgb(51\, 51\, 51)\; font-family: sans-serif\, Arial\, Verdana\, &quot\;Trebuchet MS&quot\;\; font-size: 13px\;"><span style="font-family: arial\, sans-serif\;"><span style="font-size: 10pt\;">&nbsp\;Build valuable business relationships</span></span></span><br style="color: rgb(51\, 51\, 51)\; font-family: sans-serif\, Arial\, Verdana\, &quot\;Trebuchet MS&quot\;\; font-size: 13px\;" />\n<span style="color: rgb(51\, 51\, 51)\; font-family: sans-serif\, Arial\, Verdana\, &quot\;Trebuchet MS&quot\;\; font-size: 13px\;"><span style="font-family: &quot\;segoe ui emoji&quot\;\, sans-serif\;"><span style="font-size: 10pt\;">&#9989\;</span></span></span><span style="color: rgb(51\, 51\, 51)\; font-family: sans-serif\, Arial\, Verdana\, &quot\;Trebuchet MS&quot\;\; font-size: 13px\;"><span style="font-family: arial\, sans-serif\;"><span style="font-size: 10pt\;">&nbsp\;Exchange quality referrals</span></span></span><br style="color: rgb(51\, 51\, 51)\; font-family: sans-serif\, Arial\, Verdana\, &quot\;Trebuchet MS&quot\;\; font-size: 13px\;" />\n<span style="color: rgb(51\, 51\, 51)\; font-family: sans-serif\, Arial\, Verdana\, &quot\;Trebuchet MS&quot\;\; font-size: 13px\;"><span style="font-family: &quot\;segoe ui emoji&quot\;\, sans-serif\;"><span style="font-size: 10pt\;">&#9989\;</span></span></span><span style="color: rgb(51\, 51\, 51)\; font-family: sans-serif\, Arial\, Verdana\, &quot\;Trebuchet MS&quot\;\; font-size: 13px\;"><span style="font-family: arial\, sans-serif\;"><span style="font-size: 10pt\;">&nbsp\;Enjoy great food &amp\; great company</span></span></span><br style="color: rgb(51\, 51\, 51)\; font-family: sans-serif\, Arial\, Verdana\, &quot\;Trebuchet MS&quot\;\; font-size: 13px\;" />\n<span style="color: rgb(51\, 51\, 51)\; font-family: sans-serif\, Arial\, Verdana\, &quot\;Trebuchet MS&quot\;\; font-size: 13px\;"><span style="font-family: &quot\;segoe ui emoji&quot\;\, sans-serif\;"><span style="font-size: 10pt\;">&#9989\;</span></span></span><span style="color: rgb(51\, 51\, 51)\; font-family: sans-serif\, Arial\, Verdana\, &quot\;Trebuchet MS&quot\;\; font-size: 13px\;"><span style="font-family: arial\, sans-serif\;"><span style="font-size: 10pt\;">&nbsp\;Be part of a thriving local business community<br />\nSpots fill up fast&mdash\;<strong>RSVP now</strong>&nbsp\;to lock in your seat at the best networking event in Parker County!&nbsp\;</span></span></span><span style="color: rgb(51\, 51\, 51)\; font-family: sans-serif\, Arial\, Verdana\, &quot\;Trebuchet MS&quot\;\; font-size: 13px\;"><span style="font-family: &quot\;segoe ui emoji&quot\;\, sans-serif\;"><span style="font-size: 10pt\;">&#127881\;</span></span></span><br style="color: rgb(51\, 51\, 51)\; font-family: sans-serif\, Arial\, Verdana\, &quot\;Trebuchet MS&quot\;\; font-size: 13px\;" />\n<span style="color: rgb(51\, 51\, 51)\; font-family: sans-serif\, Arial\, Verdana\, &quot\;Trebuchet MS&quot\;\; font-size: 13px\;"><span style="font-family: &quot\;segoe ui emoji&quot\;\, sans-serif\;"><span style="font-size: 10pt\;">&#128279\;</span></span></span><span style="color: rgb(51\, 51\, 51)\; font-family: sans-serif\, Arial\, Verdana\, &quot\;Trebuchet MS&quot\;\; font-size: 13px\;"><span style="font-family: arial\, sans-serif\;"><span style="font-size: 10pt\;">&nbsp\;<strong>Register here:</strong>&nbsp\;<a href="http://www.parkercountychamber.com/" style="color: rgb(7\, 130\, 193)\;">www.ParkerCountyChamber.com</a><br />\nLet&rsquo\;s grow together! See you there!</span></span></span>
LOCATION:Los Vaqueros 4899 E. Interstate 20 Service Road Willow Park
UID:e.2477.19822
SEQUENCE:3
DTSTAMP:20260421T013646Z
URL:http://business.parkercountychamber.com/events/details/b2b-leads-group-04-16-2026-19822
END:VEVENT

END:VCALENDAR
