BEGIN:VCALENDAR
VERSION:2.0
PRODID:-//ChamberMaster//Event Calendar 2.0//EN
METHOD:PUBLISH
X-PUBLISHED-TTL:P3D
REFRESH-INTERVAL:P3D
CALSCALE:GREGORIAN
BEGIN:VEVENT
DTSTART:20220308T173000Z
DTEND:20220308T190000Z
X-MICROSOFT-CDO-ALLDAYEVENT:FALSE
SUMMARY:Ask the Attorney - Lunch and Learn
DESCRIPTION:Join us for lunch and a FREE class! We will have our attorney\, Josh Liszewski\, in attendance and ready to answer any Escrow and Title questions you may have! Feel free to message me ahead of time with any questions.\n\n \n\nLunch will be sponsored by Shelda Nichols with First Financial Bank.
X-ALT-DESC;FMTTYPE=text/html:<div>Join us for lunch and a FREE class! We will have our attorney\, Josh Liszewski\, in attendance and ready to answer any Escrow and Title questions you may have! Feel free to message me ahead of time with any questions.<br />\n&nbsp\;</div>\n\n<div>Lunch will be sponsored by Shelda Nichols with First Financial Bank.</div>\n
LOCATION:Shep's 2020 Fort Worth Hwy. Weatherford\, TX 76086
UID:e.2477.17515
SEQUENCE:3
DTSTAMP:20260425T170624Z
URL:http://business.parkercountychamber.com/events/details/ask-the-attorney-lunch-and-learn-17515
END:VEVENT

END:VCALENDAR
