BEGIN:VCALENDAR
VERSION:2.0
PRODID:-//ChamberMaster//Event Calendar 2.0//EN
METHOD:PUBLISH
X-PUBLISHED-TTL:P3D
REFRESH-INTERVAL:P3D
CALSCALE:GREGORIAN
BEGIN:VEVENT
DTSTART:20240905T223000Z
DTEND:20240906T000000Z
X-MICROSOFT-CDO-ALLDAYEVENT:FALSE
SUMMARY:Art Show Reception: Paintings of Weatherford in Oil and Acrylic
DESCRIPTION:Reception for the Art Show for Paintings of Weatherford in Oil and Acrylic. The artists are Mike Oates and Trista Towles. The show will be up September 5th to October 4th.
X-ALT-DESC;FMTTYPE=text/html:<span style="color:rgb(0\, 0\, 0)\; font-family:helvetica\,arial\,sans-serif\; font-size:16px">Reception for the Art Show for Paintings of Weatherford in Oil and Acrylic. The artists are Mike Oates and Trista Towles. The show will be up September 5th to October 4th.</span>
LOCATION:Weatherford College Alkek Fine Arts Center 239 College Park Dr\, Weatherford\, TX 76086
UID:e.2477.19745
SEQUENCE:3
DTSTAMP:20260423T235412Z
URL:http://business.parkercountychamber.com/events/details/art-show-reception-paintings-of-weatherford-in-oil-and-acrylic-19745
END:VEVENT

END:VCALENDAR
