BEGIN:VCALENDAR
VERSION:2.0
PRODID:-//ChamberMaster//Event Calendar 2.0//EN
METHOD:PUBLISH
X-PUBLISHED-TTL:P3D
REFRESH-INTERVAL:P3D
CALSCALE:GREGORIAN
BEGIN:VEVENT
DTSTART:20240627T153000Z
DTEND:20240627T170000Z
X-MICROSOFT-CDO-ALLDAYEVENT:FALSE
SUMMARY:Appy Hour: The MLS Touch
DESCRIPTION:The MLS-Touch mobile application not only lets you search the MLS and access showing instructions on the go\, it allows members and their customers to work together remotely and share information throughout the home buying and selling process with the mobile app. In this class\, you will learn different features of the app such as automatic agent branding\, accessing MLS dates\, and sharing information on listing with clients via cell phones!\n\n \n\nLunch provided | $10 course | 1 hour CE Credit\n\n \n\nNetworking/Food - 10:30 AM - 11:00 AM\n\nInstruction - 11:00 AM - 12:00 PM\n\n\n\nSponsors:\n\nSparkles Belt - Capital Title Weatherford\n\nSuzanna Ravin -Delta Southwest Funding\n\nJake Medcalf - Top Shield Roofing Systems\n\nTrent Johnson - Goosehead Insurance\n\nSunny Street Cafe | 229 Shops Blvd\, Suite 103.\n\nWillow Park\, TX 76087
X-ALT-DESC;FMTTYPE=text/html:<div>The MLS-Touch mobile application not only lets you search the MLS and access showing instructions on the go\, it allows members and their customers to work together remotely and share information throughout the home buying and selling process with the mobile app. In this class\, you will learn different features of the app such as automatic agent branding\, accessing MLS dates\, and sharing information on listing with clients via cell phones!<br />\n&nbsp\;</div>\n\n<div>Lunch provided | $10 course | 1 hour CE Credit<br />\n&nbsp\;</div>\n\n<div>Networking/Food - 10:30 AM - 11:00 AM<br />\nInstruction - 11:00 AM - 12:00 PM</div>\n\n<div><br />\nSponsors:<br />\nSparkles Belt - Capital Title Weatherford<br />\nSuzanna Ravin -Delta Southwest Funding<br />\nJake Medcalf - Top Shield Roofing Systems<br />\nTrent Johnson - Goosehead Insurance</div>\n\n<div>Sunny Street Cafe | 229 Shops Blvd\, Suite 103.<br />\nWillow Park\, TX 76087&nbsp\;</div>\n
LOCATION:Sunny Street Cafe | 229 Shops Blvd\, Suite 103. Willow Park\, TX 76087
UID:e.2477.19684
SEQUENCE:3
DTSTAMP:20260424T024353Z
URL:http://business.parkercountychamber.com/events/details/appy-hour-the-mls-touch-19684
END:VEVENT

END:VCALENDAR
