BEGIN:VCALENDAR
VERSION:2.0
PRODID:-//ChamberMaster//Event Calendar 2.0//EN
METHOD:PUBLISH
X-PUBLISHED-TTL:P3D
REFRESH-INTERVAL:P3D
CALSCALE:GREGORIAN
BEGIN:VEVENT
DTSTART:20250307T010000Z
DTEND:20250309T010000Z
X-MICROSOFT-CDO-ALLDAYEVENT:FALSE
SUMMARY:Antigone
DESCRIPTION:Antigone is the story of a young woman standing defiant against the world.
X-ALT-DESC;FMTTYPE=text/html:Antigone is the story of a young woman standing defiant against the world.&nbsp\;
LOCATION:Weatherford College Alkek Fine Arts Center: Alkek Theater 225 College Park Dr.
UID:e.2477.20145
SEQUENCE:3
DTSTAMP:20260423T113155Z
URL:http://business.parkercountychamber.com/events/details/antigone-20145
END:VEVENT

END:VCALENDAR
