BEGIN:VCALENDAR
VERSION:2.0
PRODID:-//ChamberMaster//Event Calendar 2.0//EN
METHOD:PUBLISH
X-PUBLISHED-TTL:P3D
REFRESH-INTERVAL:P3D
CALSCALE:GREGORIAN
BEGIN:VEVENT
DTSTART:20211120T000000Z
DTEND:20211120T040000Z
X-MICROSOFT-CDO-ALLDAYEVENT:FALSE
SUMMARY:An Artists Christmas: An Evening with Emmitt Smith
DESCRIPTION:Art lovers and Camp Fire supporters gather together for the 37th anniversary of An Artists' Christmas this year starring three-time Super Bowl champion\, Pro Football Hall of Famer\, author and philanthropist Emmitt Smith. Patrons will socialize\, expand their collection of original art\, enjoy a seated gourmet dinner and bid on exotic live auction experiences at the elegant Fort Worth Convention Center Ballroom in support of the children of our community.\n\nCamp Fire will continue to honor the tradition of offering original art in the silent auction by our extraordinary North Texas artists' community\, whose contributions have helped raise nearly $5 million for North Texas children and youth.\n\nThis year's event features never-before-offered sponsor experiences! A private VIP Reception with Emmitt Smith complete with photo opportunities\, dinner with Emmitt and guests for the Keynote Sponsor\, local celebrity table host for the Gala Sponsor\, complimentary valet\, and a sponsor auction with exclusive packages from Emmitt Smith are just a few of the exciting experiences for sponsors.\n\nAt Camp Fire First Texas\, we envision a community where every child has equitable access to the quality learning opportunities they need to succeed and thrive in a rapidly changing world. We invite you to share the evening with us by sponsoring Camp Fire An Artists' Christmas: An Evening with Emmitt Smith. \n\n \n\nKeynote   Emmitt Smith\n\nHonor Chairs   Evalis and Jay Chapa\n\nEvent Chairs   Linda and Jake Jacobson\n\nEmcee   Deborah Ferguson\, NBC 5
X-ALT-DESC;FMTTYPE=text/html:<p>Art lovers and Camp Fire supporters gather together for the 37th anniversary of&nbsp\;<em>An Artists&rsquo\; Christmas</em>&nbsp\;this year starring three-time Super Bowl champion\, Pro Football Hall of Famer\, author and philanthropist Emmitt Smith. Patrons will socialize\, expand their collection of original art\, enjoy a seated gourmet dinner and bid on exotic live auction experiences at the elegant Fort Worth Convention Center Ballroom in support of the children of our community.</p>\n\n<p>Camp Fire will continue to honor the tradition of offering original art in the silent auction by our extraordinary North Texas artists&rsquo\; community\, whose contributions have helped raise nearly $5 million for North Texas children and youth.</p>\n\n<p>This year&rsquo\;s event features never-before-offered sponsor experiences! A private VIP Reception with Emmitt Smith complete with photo opportunities\, dinner with Emmitt and guests for the Keynote Sponsor\, local celebrity table host for the Gala Sponsor\, complimentary valet\, and a sponsor auction with exclusive packages from Emmitt Smith are just a few of the exciting experiences for sponsors.</p>\n\n<p>At&nbsp\;<a href="https://www.campfirefw.org/about-us/" style="box-sizing: border-box\; -webkit-font-smoothing: antialiased\; background-color: transparent\; color: rgb(220\, 51\, 46)\; text-decoration-line: none\; overflow-wrap: break-word\; transition-property: color\, background-color\, border-color\; transition-duration: 0.2s\; transition-timing-function: linear\;">Camp Fire First Texas</a>\, we envision a community where every child has equitable access to the quality learning opportunities they need to succeed and thrive in a rapidly changing world. We invite you to share the evening with us by sponsoring Camp Fire&nbsp\;<em>An Artists&rsquo\; Christmas</em>: An Evening with Emmitt Smith.&nbsp\;<br />\n&nbsp\;</p>\n\n<h5>Keynote&nbsp\;&bull\;&nbsp\;Emmitt Smith</h5>\n\n<h5>Honor Chairs &bull\; Evalis and Jay Chapa<br />\nEvent Chairs &bull\; Linda and Jake Jacobson</h5>\n\n<h5>Emcee &bull\;&nbsp\;<a href="https://www.nbcdfw.com/author/deborah-ferguson/" rel="noopener" style="box-sizing: border-box\; text-decoration-line: none\; transition-property: color\, background-color\, border-color\; transition-duration: 0.2s\; transition-timing-function: linear\; color: rgb(0\, 83\, 115)\;" target="_blank">Deborah Ferguson\, NBC 5</a></h5>\n
LOCATION:Fort Worth Convention Center Ballroom 1201 Houston St\, Fort Worth\, TX 76102
UID:e.2477.15586
SEQUENCE:3
DTSTAMP:20260425T223424Z
URL:http://business.parkercountychamber.com/events/details/an-artists-christmas-an-evening-with-emmitt-smith-15586
END:VEVENT

END:VCALENDAR
