BEGIN:VCALENDAR
VERSION:2.0
PRODID:-//ChamberMaster//Event Calendar 2.0//EN
METHOD:PUBLISH
X-PUBLISHED-TTL:P3D
REFRESH-INTERVAL:P3D
CALSCALE:GREGORIAN
BEGIN:VEVENT
DTSTART:20240126T173000Z
DTEND:20240126T190000Z
X-MICROSOFT-CDO-ALLDAYEVENT:FALSE
SUMMARY:Amelia Earhart Luncheon
DESCRIPTION:Zonta Club of Parker County\n\nAnnual Amelia Earhart Luncheon\n\nJanuary 26\, 2024 11:30 am 1:00 pm\n\nWeatherford College Emerging Technology Center\n\nThird Floor Conference Room\n\nCelebrating the Contributions of Women in Aviation\n\nPresentation by Civil Air Patrol Captain Becky Kegley\n\nand Cadet Elena Daniel\n\nReserve your place at www.zontaparkercounty.org/events\n\nSPONSORSHIP OPPORTUNITIES AVAILABLE\n\nReservations Required: purchase tickets at www.zontaparkercounty.org/events\n\nIndividual Tickets $40\; Table of 8 $400
X-ALT-DESC;FMTTYPE=text/html:Zonta Club of Parker County<br />\nAnnual Amelia Earhart Luncheon<br />\nJanuary 26\, 2024 11:30 am&mdash\;1:00 pm<br />\nWeatherford College Emerging Technology Center<br />\nThird Floor Conference Room<br />\nCelebrating the Contributions of Women in Aviation<br />\nPresentation by Civil Air Patrol Captain Becky Kegley<br />\nand Cadet Elena Daniel<br />\nReserve your place at www.zontaparkercounty.org/events<br />\nSPONSORSHIP OPPORTUNITIES AVAILABLE<br />\nReservations Required: purchase tickets at www.zontaparkercounty.org/events<br />\nIndividual Tickets $40\; Table of 8 $400
LOCATION:
UID:e.2477.19203
SEQUENCE:3
DTSTAMP:20260424T095227Z
URL:http://business.parkercountychamber.com/events/details/amelia-earhart-luncheon-19203
END:VEVENT

END:VCALENDAR
