BEGIN:VCALENDAR
VERSION:2.0
PRODID:-//ChamberMaster//Event Calendar 2.0//EN
METHOD:PUBLISH
X-PUBLISHED-TTL:P3D
REFRESH-INTERVAL:P3D
CALSCALE:GREGORIAN
BEGIN:VEVENT
DTSTART:20250605T220000Z
DTEND:20250606T000000Z
X-MICROSOFT-CDO-ALLDAYEVENT:FALSE
SUMMARY:Alumni Mixer
DESCRIPTION:Come mingle with other Weatherford College Alumni!\n\n\n\nDate: Thursday\, June 5\n\nTime: 5:00 P.M. to 7:00 P.M.\n\nLocation: Vickie & Jerry Durant Hall\n\n\n\nPlease RSVP to Susan Sodek at ssodek@wc.edu
X-ALT-DESC;FMTTYPE=text/html:<span style="color:rgb(49\, 49\, 49)\; font-family:-apple-system\,system-ui\,segoe ui\,roboto\,helvetica\,arial\,sans-serif\,apple color emoji\,segoe ui emoji\,segoe ui symbol\; font-size:14px">Come mingle with other Weatherford College Alumni!</span><br />\n<br />\n<span style="color:rgb(49\, 49\, 49)\; font-family:-apple-system\,system-ui\,segoe ui\,roboto\,helvetica\,arial\,sans-serif\,apple color emoji\,segoe ui emoji\,segoe ui symbol\; font-size:14px">Date: Thursday\, June 5</span><br />\n<span style="color:rgb(49\, 49\, 49)\; font-family:-apple-system\,system-ui\,segoe ui\,roboto\,helvetica\,arial\,sans-serif\,apple color emoji\,segoe ui emoji\,segoe ui symbol\; font-size:14px">Time: 5:00 P.M. to 7:00 P.M.</span><br />\n<span style="color:rgb(49\, 49\, 49)\; font-family:-apple-system\,system-ui\,segoe ui\,roboto\,helvetica\,arial\,sans-serif\,apple color emoji\,segoe ui emoji\,segoe ui symbol\; font-size:14px">Location: Vickie &amp\; Jerry Durant Hall</span><br />\n<br />\n<span style="color:rgb(49\, 49\, 49)\; font-family:-apple-system\,system-ui\,segoe ui\,roboto\,helvetica\,arial\,sans-serif\,apple color emoji\,segoe ui emoji\,segoe ui symbol\; font-size:14px">Please RSVP to Susan Sodek at ssodek@wc.edu</span>
LOCATION:Weatherford College Vickie & Jerry Durant Hall 225 College Park Dr. Weatherford\, TX 76086
UID:e.2477.20379
SEQUENCE:3
DTSTAMP:20260423T054730Z
URL:http://business.parkercountychamber.com/events/details/alumni-mixer-20379
END:VEVENT

END:VCALENDAR
