BEGIN:VCALENDAR
VERSION:2.0
PRODID:-//ChamberMaster//Event Calendar 2.0//EN
METHOD:PUBLISH
X-PUBLISHED-TTL:P3D
REFRESH-INTERVAL:P3D
CALSCALE:GREGORIAN
BEGIN:VEVENT
DTSTART:20220408T163000Z
DTEND:20220408T180000Z
X-MICROSOFT-CDO-ALLDAYEVENT:FALSE
SUMMARY:Alumni Awards Luncheon - Weatherford College
DESCRIPTION:Please email Jaci Edwards at jedwards@wc.edu for reservations.
X-ALT-DESC;FMTTYPE=text/html:Please email Jaci Edwards at <a href="mailto:jedwards@wc.edu">jedwards@wc.edu</a> for reservations.
LOCATION:Weatherford College Third Floor Community Room\, Emerging Technologies and Workforce Building
UID:e.2477.16900
SEQUENCE:3
DTSTAMP:20260425T154517Z
URL:http://business.parkercountychamber.com/events/details/alumni-awards-luncheon-weatherford-college-16900
END:VEVENT

END:VCALENDAR
