BEGIN:VCALENDAR
VERSION:2.0
PRODID:-//ChamberMaster//Event Calendar 2.0//EN
METHOD:PUBLISH
X-PUBLISHED-TTL:P3D
REFRESH-INTERVAL:P3D
CALSCALE:GREGORIAN
BEGIN:VEVENT
DTSTART:20240322T163000Z
DTEND:20240322T180000Z
X-MICROSOFT-CDO-ALLDAYEVENT:FALSE
SUMMARY:Alumni Awards Luncheon - Weatherford College
DESCRIPTION:Please email Susan Sodek ssodek@wc.edu for reservations.
X-ALT-DESC;FMTTYPE=text/html:Please email Susan Sodek ssodek@wc.edu&nbsp\;for reservations.
LOCATION:Weatherford College Third Floor Community Room\, Emerging Technologies and Workforce Building
UID:e.2477.18925
SEQUENCE:3
DTSTAMP:20260424T072320Z
URL:http://business.parkercountychamber.com/events/details/alumni-awards-luncheon-weatherford-college-03-22-2024-18925
END:VEVENT

END:VCALENDAR
