BEGIN:VCALENDAR
VERSION:2.0
PRODID:-//ChamberMaster//Event Calendar 2.0//EN
METHOD:PUBLISH
X-PUBLISHED-TTL:P3D
REFRESH-INTERVAL:P3D
CALSCALE:GREGORIAN
BEGIN:VEVENT
DTSTART:20250328T163000Z
DTEND:20250328T183000Z
X-MICROSOFT-CDO-ALLDAYEVENT:FALSE
SUMMARY:Alumni Awards Luncheon
DESCRIPTION:Continuing the tradition of recognizing outstanding former students\, Weatherford College will honor several worthy alumni at the Alumni Awards Luncheon Friday\, March 28\, 2025 at 11:30 a.m.\n\nTickets are $20 in advance and $25 at the door. A third party service charge of $1.93 will be added to online orders.\n\nThis year's luncheon will be held on the 3rd floor of the Emerging Technologies and Workforce Building.\n\nAll are welcome!
X-ALT-DESC;FMTTYPE=text/html:<p>Continuing the tradition of recognizing outstanding former students\, Weatherford College will honor several worthy alumni at the Alumni Awards Luncheon Friday\, March 28\, 2025 at 11:30 a.m.</p>\n\n<p>Tickets are $20 in advance and $25 at the door. A third party service charge of $1.93 will be added to online orders.</p>\n\n<p>This year&#39\;s luncheon will be held on the 3rd floor of the Emerging Technologies and Workforce Building.</p>\n\n<p>All are welcome!</p>\n
LOCATION:Weatherford College Emerging Technologies and Workforce Building: 3rd Floor 225 College Park Dr. Weatherford\, TX 76086
UID:e.2477.20305
SEQUENCE:3
DTSTAMP:20260423T113711Z
URL:http://business.parkercountychamber.com/events/details/alumni-awards-luncheon-20305
END:VEVENT

END:VCALENDAR
