BEGIN:VCALENDAR
VERSION:2.0
PRODID:-//ChamberMaster//Event Calendar 2.0//EN
METHOD:PUBLISH
X-PUBLISHED-TTL:P3D
REFRESH-INTERVAL:P3D
CALSCALE:GREGORIAN
BEGIN:VEVENT
DTSTART:20260327T163000Z
DTEND:20260327T180000Z
X-MICROSOFT-CDO-ALLDAYEVENT:FALSE
SUMMARY:Alumni Awards Luncheon
DESCRIPTION:Continuing the tradition of recognizing outstanding former students\, Weatherford College will honor several worthy alumni at the Alumni Awards Luncheon Friday\, March 27\, 2026 at 11:30 a.m.\n\nTickets are $20 in advance and $25 at the door. A third party service charge of $1.93 will be added to online orders.\n\nThis year's luncheon will be held on the 3rd floor Community Room of the Emerging Technologies and Workforce Building.\n\nAll are welcome!\n\nPlease contact Susan Sodek at ssodek@wc.edu or 817-598-8924 if you have any questions.
X-ALT-DESC;FMTTYPE=text/html:<p><span style="font-size:14px"><span style="font-family:arial\,helvetica\,sans-serif">Continuing the tradition of recognizing outstanding former students\, Weatherford College will honor several worthy alumni at the Alumni Awards Luncheon Friday\, March 27\, 2026 at 11:30 a.m.</span></span></p>\n\n<p><span style="font-size:14px"><span style="font-family:arial\,helvetica\,sans-serif">Tickets are $20 in advance and $25 at the door. A third party service charge of $1.93 will be added to online orders.</span></span></p>\n\n<p><span style="font-size:14px"><span style="font-family:arial\,helvetica\,sans-serif">This year&#39\;s luncheon will be held on the 3rd floor Community Room of the Emerging Technologies and Workforce Building.</span></span></p>\n\n<p><span style="font-size:14px"><span style="font-family:arial\,helvetica\,sans-serif">All are welcome!</span></span></p>\n\n<p><span style="font-size:14px"><span style="font-family:arial\,helvetica\,sans-serif">Please contact Susan Sodek at ssodek@wc.edu or 817-598-8924 if you have any questions.</span></span></p>\n
LOCATION:Weatherford College Emerging Technologies and Workforce Building 225 College Park Dr Weatherford\, TX 76086
UID:e.2477.21880
SEQUENCE:3
DTSTAMP:20260421T032156Z
URL:http://business.parkercountychamber.com/events/details/alumni-awards-luncheon-03-27-2026-21880
END:VEVENT

END:VCALENDAR
