BEGIN:VCALENDAR
VERSION:2.0
PRODID:-//ChamberMaster//Event Calendar 2.0//EN
METHOD:PUBLISH
X-PUBLISHED-TTL:P3D
REFRESH-INTERVAL:P3D
CALSCALE:GREGORIAN
BEGIN:VEVENT
DTSTART:20231204T180000Z
DTEND:20231204T190000Z
X-MICROSOFT-CDO-ALLDAYEVENT:FALSE
SUMMARY:Aledo Rotary Lunch and Learn: Open World Program
DESCRIPTION:Dr. Kella Price\, our President\, will be sharing information about Open World Program.\n\nOperated by the Congressional Office for International Leadership (COIL)\, an independent U.S. federal agency\, this is a special program available to Rotary clubs in the United States through a grant secured by Rotary International. Designed to give emerging Eurasian leaders a firsthand look at the U.S. political system\, business environment\, and community life\, the program aims to forge bonds of friendship and promote understanding by opening up new avenues of dialogue between U.S. political and civic leaders and a new generation of Eurasian leaders.\n\nJoin us to find out how you and your organization can get involved!
X-ALT-DESC;FMTTYPE=text/html:<p>Dr. Kella Price\, our President\, will be sharing information about Open World Program.</p>\n\n<p>Operated by the Congressional Office for International Leadership (COIL)\, an independent U.S. federal agency\, this is a special program available to Rotary clubs in the United States through a grant secured by Rotary International. Designed to give emerging Eurasian leaders a firsthand look at the U.S. political system\, business environment\, and community life\, the program aims to forge bonds of friendship and promote understanding by opening up new avenues of dialogue between U.S. political and civic leaders and a new generation of Eurasian leaders.</p>\n\n<p>Join us to find out how you and your organization can get involved!</p>\n
LOCATION:Sunny Street Cafe Willow Park
UID:e.2477.19181
SEQUENCE:3
DTSTAMP:20260424T111921Z
URL:http://business.parkercountychamber.com/events/details/aledo-rotary-lunch-and-learn-open-world-program-19181
END:VEVENT

END:VCALENDAR
