BEGIN:VCALENDAR
VERSION:2.0
PRODID:-//ChamberMaster//Event Calendar 2.0//EN
METHOD:PUBLISH
X-PUBLISHED-TTL:P3D
REFRESH-INTERVAL:P3D
CALSCALE:GREGORIAN
BEGIN:VEVENT
DTSTART:20250320T140000Z
DTEND:20250320T160000Z
X-MICROSOFT-CDO-ALLDAYEVENT:FALSE
SUMMARY:Aledo ISD Career Fair
DESCRIPTION:Calling all community partners! Do you have a business that would like to present a booth at our AHS Career Fair? Then this info is for you! Whether you have an opportunity for students to gain work-based learning\, are available to answer the burning questions our students have about your profession\, or just want to share your passions and expertise\, you can make a difference in the lives of our AHS students at the 2025 Career Fair on March 20th! No presentation is required! Just your presence at a table to provide information to students about your career.\n\nPlease use the QR code or this link to sign up. The deadline to sign up is March 7th. Please complete the interest form to sign up or request more information! We look forward to partnering with you in providing exceptional learning experiences for our students!\n\nIf you have any questions\, please reach out to Annie Walker awalker@aledoisd.org
X-ALT-DESC;FMTTYPE=text/html:<p style="color: rgb(34\, 34\, 34)\; font-family: Arial\, Helvetica\, sans-serif\; font-size: small\;">Calling all community partners! Do you have a business that would like to present a booth at our AHS Career Fair? Then this info is for you! Whether you have an opportunity for students to gain work-based learning\, are available to answer the burning questions our students have about your profession\, or just want to share your passions and expertise\, you can make a difference in the lives of our AHS students at the 2025 Career Fair on March 20<sup>th</sup>! No presentation is required! Just your presence at a table to provide information to students about your career.</p>\n\n<p style="color: rgb(34\, 34\, 34)\; font-family: Arial\, Helvetica\, sans-serif\; font-size: small\;">Please use the QR code or this&nbsp\;<a data-saferedirecturl="https://www.google.com/url?q=https://docs.google.com/forms/d/e/1FAIpQLSd6pi-lARgUzyM8VrwZHeb8jse3lDC1j9UNiCPPtX2hsVik3g/viewform&amp\;source=gmail&amp\;ust=1741103436390000&amp\;usg=AOvVaw2H3PlZJEfuoFh3Qbc7g-5Y" href="https://docs.google.com/forms/d/e/1FAIpQLSd6pi-lARgUzyM8VrwZHeb8jse3lDC1j9UNiCPPtX2hsVik3g/viewform" style="color: rgb(17\, 85\, 204)\;" target="_blank">link</a>&nbsp\;to sign up. The deadline to sign up is March 7th. Please complete the interest form to sign up or request more information! We look forward to partnering with you in providing exceptional learning experiences for our students!</p>\n\n<p style="color: rgb(34\, 34\, 34)\; font-family: Arial\, Helvetica\, sans-serif\; font-size: small\;">If you have any questions\, please reach out to Annie Walker&nbsp\;<a href="mailto:awalker@aledoisd.org" style="color: rgb(17\, 85\, 204)\;" target="_blank">awalker@aledoisd.org</a></p>\n
LOCATION:
UID:e.2477.20310
SEQUENCE:3
DTSTAMP:20260423T115805Z
URL:http://business.parkercountychamber.com/events/details/aledo-isd-career-fair-20310
END:VEVENT

END:VCALENDAR
