BEGIN:VCALENDAR
VERSION:2.0
PRODID:-//ChamberMaster//Event Calendar 2.0//EN
METHOD:PUBLISH
X-PUBLISHED-TTL:P3D
REFRESH-INTERVAL:P3D
CALSCALE:GREGORIAN
BEGIN:VEVENT
DTSTART:20220620T230000Z
DTEND:20220621T000000Z
X-MICROSOFT-CDO-ALLDAYEVENT:FALSE
SUMMARY:Aledo ISD Board Meeting
DESCRIPTION:http://www.aledo.k12.tx.us
X-ALT-DESC;FMTTYPE=text/html:<a href="http://www.aledo.k12.tx.us">http://www.aledo.k12.tx.us</a>
LOCATION:
UID:e.2477.16399
SEQUENCE:3
DTSTAMP:20260425T131626Z
URL:http://business.parkercountychamber.com/events/details/aledo-isd-board-meeting-06-20-2022-16399
END:VEVENT

END:VCALENDAR
