BEGIN:VCALENDAR
VERSION:2.0
PRODID:-//ChamberMaster//Event Calendar 2.0//EN
METHOD:PUBLISH
X-PUBLISHED-TTL:P3D
REFRESH-INTERVAL:P3D
CALSCALE:GREGORIAN
BEGIN:VEVENT
DTSTART:20241019T150000Z
DTEND:20241019T190000Z
X-MICROSOFT-CDO-ALLDAYEVENT:FALSE
SUMMARY:ALEDO-FEST
DESCRIPTION:2024 Aledo Fest will feature live music and activities for kids of all ages and will be held in DOWNTOWN ALEDO!\n\nMeet your local businesses at vendor booths\, do some gift shopping\, and get a little something for yourself!\n\nCome hungry for a variety of food trucks on-site for good eats & autumn treats!\n\nVendor and sponsorship applications are available now - please visit our website.\n\nhttps://www.aledotx.gov/AledoFest
X-ALT-DESC;FMTTYPE=text/html:<div>\n<div class="xdj266r x11i5rnm xat24cr x1mh8g0r x1vvkbs" style="margin: 0px\; overflow-wrap: break-word\; font-family: &quot\;Segoe UI Historic&quot\;\, &quot\;Segoe UI&quot\;\, Helvetica\, Arial\, sans-serif\; color: rgb(5\, 5\, 5)\; font-size: 14px\; background-color: rgb(255\, 255\, 255)\;">2024 Aledo Fest will feature live music and activities for kids of all ages and will be held in DOWNTOWN ALEDO!</div>\n\n<div class="x11i5rnm xat24cr x1mh8g0r x1vvkbs xtlvy1s" style="margin: 0.5em 0px 0px\; overflow-wrap: break-word\; font-family: &quot\;Segoe UI Historic&quot\;\, &quot\;Segoe UI&quot\;\, Helvetica\, Arial\, sans-serif\; color: rgb(5\, 5\, 5)\; font-size: 14px\; background-color: rgb(255\, 255\, 255)\;">Meet your local businesses at vendor booths\, do some gift shopping\, and get a little something for yourself!</div>\n\n<div class="x11i5rnm xat24cr x1mh8g0r x1vvkbs xtlvy1s" style="margin: 0.5em 0px 0px\; overflow-wrap: break-word\; font-family: &quot\;Segoe UI Historic&quot\;\, &quot\;Segoe UI&quot\;\, Helvetica\, Arial\, sans-serif\; color: rgb(5\, 5\, 5)\; font-size: 14px\; background-color: rgb(255\, 255\, 255)\;">Come hungry for a variety of food trucks on-site for good eats &amp\; autumn treats!</div>\n\n<div class="x11i5rnm xat24cr x1mh8g0r x1vvkbs xtlvy1s" style="margin: 0.5em 0px 0px\; overflow-wrap: break-word\; font-family: &quot\;Segoe UI Historic&quot\;\, &quot\;Segoe UI&quot\;\, Helvetica\, Arial\, sans-serif\; color: rgb(5\, 5\, 5)\; font-size: 14px\; background-color: rgb(255\, 255\, 255)\;">Vendor and sponsorship applications are available now - please visit our website.<br class="html-br" />\n<a attributionsrc="/privacy_sandbox/comet/register/source/?xt=AZWxQFGCUHde-eItC4tuFEiiV_M5NUMKujqJJo6OMxC-i4BZanHQ7M-pP9JS1VE7gvmJlPEGU4et_BNQ7GXi-4OMmNEiTsxEbYEkcoac09BQhuk2G6CNis22dBE_LWusVoy-4u_ez1yUqdYXmEI9zZqUhs_4oBYHFTpkSjHbnpQX6XZn1VRt1_hU7b8Jh6LrqYmaVTe9nErVZu0i8VPJa7P8lTlHGxUQdplN0wzHGg503RaO8KiWgatfCG7DuxKDB8-UbjPfqYjAzmfq25ppPkCxl65qB8tGaGBMhk_MlEL-wWsNowQEfZQT8GLp0ESY5LQY3W-_XpXVHSobKjshAKdpyTbSx1ltJepfYJVr4QexNMan-abYw0yksw2nXmh2NX0e_YcSTgqKzw0n5ML2D81VKfO40_5ravbCEqliEUineqUkQ0N5dKhLA8y2Yqe9ALXdXFpxjH7mE-dbhnk_FXOjvrbO_dOnHpfECd7TZWsIBCqOmzWVCWzCnXDwe3vJwQXc-QEK35T2RC-p-o7M5q3HQ_j1iBS0M2j5V47hjjoteRwOTkUbsIVC-dJOgL4q1iCJXwjheYBX95ZpyrUzQidnxTNNhZJ6x6r1dZRnzknwFtn01n-ryZOyEISHDU8GecVMIKV5CzQO7BPuDQ5LDj_AwzQtRGHcIIXaNWPgCkYqUx8TBINEYHDqjjt_KvDvUKeegMbDMtJRatxaiFcryy1zi-CItya1vl7KWD5MqizKK3Czq5BZaIJA8wKbFdN_Al5zJwbb1WBfZ5j3hu174uyNqh65hHmIZu3rooECXztDGueNc0v0_O0IgIzJCjmvr7f3dc6pR1gwOpDkPTtZvmViPNswO9DOF0YZgOl3tL3lzQ" class="x1i10hfl xjbqb8w x1ejq31n xd10rxx x1sy0etr x17r0tee x972fbf xcfux6l x1qhh985 xm0m39n x9f619 x1ypdohk xt0psk2 xe8uvvx xdj266r x11i5rnm xat24cr x1mh8g0r xexx8yu x4uap5 x18d9i69 xkhd6sd x16tdsg8 x1hl2dhg xggy1nq x1a2a7pz x1sur9pj xkrqix3 x1fey0fg" href="https://www.aledotx.gov/AledoFest?fbclid=IwZXh0bgNhZW0CMTAAAR3KDy_BaezmVJwvvDbh1WI_GL0aIGfSQ4JpT3LKuT2fP2Ys7cCd0W-AkCg_aem_A4EGnHlk9qKSANwb8TnPxQ" rel="nofollow noreferrer" role="link" style="cursor: pointer\; text-decoration-line: none\; list-style: none\; margin: 0px\; text-align: inherit\; border-style: none\; padding: 0px\; box-sizing: border-box\; border-width: 0px\; outline: none\; -webkit-tap-highlight-color: transparent\; touch-action: manipulation\; background-color: transparent\; display: inline\; font-family: inherit\;" tabindex="0" target="_blank">https://www.aledotx.gov/AledoFest</a>&nbsp\;</div>\n</div>\n
LOCATION:104 Maverick Street\, Aledo\, TX\, United States\, Texas 76008
UID:e.2477.14839
SEQUENCE:3
DTSTAMP:20260423T224535Z
URL:http://business.parkercountychamber.com/events/details/aledo-fest-10-19-2024-14839
END:VEVENT

END:VCALENDAR
