BEGIN:VCALENDAR
VERSION:2.0
PRODID:-//ChamberMaster//Event Calendar 2.0//EN
METHOD:PUBLISH
X-PUBLISHED-TTL:P3D
REFRESH-INTERVAL:P3D
CALSCALE:GREGORIAN
BEGIN:VEVENT
DTSTART:20261017T180000Z
DTEND:20261017T220000Z
X-MICROSOFT-CDO-ALLDAYEVENT:FALSE
SUMMARY:ALEDO-FEST
DESCRIPTION:Meet us on Saturday\, October 16\, 2021 from 1-5 p.m. at the Aledo High School parking lots for the City of Aledo's fall festival "ALEDO-FEST"\, full of FREE family-friendly fun!  \n\n \n\nThe Rocky Lott Band is back\, by popular demand\, playing live for us all afternoon! FREE fun activities such as: petting zoo\; pony rides\; mini-train rides\; Magic Mirror photo booth\; inflatable maze\; Velcro Wall\; bounce houses\; and\, obstacle courses!\n\n \n\nFood for purchase will be available from Shep's Place\, Funky Munky Shaved Ice\, Julie Beans Ice Cream\, Smackin Mac\; fresh squeezed lemonade\, cotton candy\, and roasted nuts from Bill's Lemonade\; and MORE!\n\n\n\nSeveral independent Vendors will have booths set up to sell their gifts\, services\, and wares\, so do some early holiday shopping\, and grab something for yourself! \n\n \n\nWe're hopeful for cooperative weather\, but keep an eye on the City of Aledo's Facebook page (www.facebook.com/cityofaledo) for updates!\n\n \n\nWe look forward to seeing you and your family there!
X-ALT-DESC;FMTTYPE=text/html:<div><span style="color:#8B4513"><span style="font-family:inherit">Meet us on </span></span><span style="color:#FF8C00"><span style="font-family:inherit"><strong>Saturday\, October 16\, 2021 from 1-5 p.m. at the&nbsp\;Aledo High School parking lots</strong></span></span><span style="color:#8B4513"><span style="font-family:inherit"> for the <strong>City of Aledo</strong>&#39\;s fall festival&nbsp\;</span>&quot\;</span><span style="color:#FF8C00"><strong>ALEDO-FEST</strong></span><span style="color:#8B4513">&quot\;\, full of FREE family-friendly fun!&nbsp\;&nbsp\;</span></div>\n\n<div>&nbsp\;</div>\n\n<div><span style="color:#8B4513"><span style="font-family:inherit">The <strong>Rocky Lott Band </strong>is back\, by popular demand\, playing live for us all afternoon! FREE fun activities such as: <strong>petting zoo\; pony rides\;&nbsp\;</strong><strong>mini-train rides</strong>\; <strong>Magic Mirror photo booth</strong>\; <strong>inflatable maze\; Velcro Wall\; bounce houses\; and\, obstacle courses!</strong></span></span></div>\n\n<div>&nbsp\;</div>\n\n<div><span style="color:#8B4513"><span style="font-family:inherit">Food for purchase will be available from <strong>Shep&rsquo\;s Place</strong>\, <strong>Funky Munky Shaved Ice</strong>\, <strong>Julie Beans Ice Cream\, Smackin Mac\;</strong>&nbsp\;fresh squeezed lemonade\, cotton candy\, and roasted nuts from <strong>Bill&#39\;s Lemonade</strong>\; and <em><strong>MORE!</strong></em></span></span></div>\n\n<div><br />\n<span style="color:#8B4513"><span style="font-family:inherit">Several independent <strong>Vendors </strong>will have booths set up to sell their gifts\, services\, and wares\, so do some early holiday shopping\, and grab something for yourself!&nbsp\;</span></span></div>\n\n<div>&nbsp\;</div>\n\n<div><span style="color:#8B4513"><span style="font-family:inherit">We&rsquo\;re hopeful for cooperative weather\, but keep an eye on the City of Aledo&#39\;s Facebook page (www.facebook.com/cityofaledo) for updates!</span></span></div>\n\n<div>&nbsp\;</div>\n\n<div><span style="color:#8B4513"><span style="font-family:inherit">We look forward to seeing you and your family there!</span></span></div>\n
LOCATION:Aledo High School - south parking lots 1008 Bailey Ranch Road Aledo Texas 76008
UID:e.2477.14841
SEQUENCE:3
DTSTAMP:20260421T082008Z
URL:http://business.parkercountychamber.com/events/details/aledo-fest-10-17-2026-14841
END:VEVENT

END:VCALENDAR
