BEGIN:VCALENDAR
VERSION:2.0
PRODID:-//ChamberMaster//Event Calendar 2.0//EN
METHOD:PUBLISH
X-PUBLISHED-TTL:P3D
REFRESH-INTERVAL:P3D
CALSCALE:GREGORIAN
BEGIN:VEVENT
DTSTART:20220505T130000Z
DTEND:20220505T190000Z
X-MICROSOFT-CDO-ALLDAYEVENT:FALSE
SUMMARY:Aim High for the Kids - Sporting Clay Shoot
DESCRIPTION:This is the 5th year of CASA's fabulous Sporting Clay Shoot.  For the second year we are at Defender Outdoors.  \n\nCheck In is at 8:00 AM\n\nShoot starts at 9:00 AM\n\nLunch between noon and 1PM\n\nAwards presentation and event conclusion
X-ALT-DESC;FMTTYPE=text/html:This is the 5th year of CASA&#39\;s fabulous Sporting Clay Shoot.&nbsp\; For the second year we are at Defender Outdoors.&nbsp\;&nbsp\;<br />\nCheck In is at 8:00 AM<br />\nShoot starts at 9:00 AM<br />\nLunch between noon and 1PM<br />\nAwards presentation and event conclusion
LOCATION:Defender Outdoors 8270 Aledo Road Fort Worth\, TX
UID:e.2477.17514
SEQUENCE:3
DTSTAMP:20260425T154404Z
URL:http://business.parkercountychamber.com/events/details/aim-high-for-the-kids-sporting-clay-shoot-05-05-2022-17514
END:VEVENT

END:VCALENDAR
