BEGIN:VCALENDAR
VERSION:2.0
PRODID:-//ChamberMaster//Event Calendar 2.0//EN
METHOD:PUBLISH
X-PUBLISHED-TTL:P3D
REFRESH-INTERVAL:P3D
CALSCALE:GREGORIAN
BEGIN:VEVENT
DTSTART:20241005T200000Z
DTEND:20241005T220000Z
X-MICROSOFT-CDO-ALLDAYEVENT:FALSE
SUMMARY:"Afternoon Tea with Douglas" & Bronze Bust Dedication
DESCRIPTION:Please join us for "Afternoon Tea with Douglas" and Bronze Bust Dedication on Saturday\, October 5\, 2024 between 3 pm and 5 pm at Chandor Gardens to celebrate the newly installed bronze portrait bust of Douglas Chandor.\n\nDouglas Chandor\, being from England\, followed the British custom of "Afternoon Tea" (tea and a light snack) around 4:00 pm. We are sure Douglas would be delighted to know that we are carrying on this tradition (with a Texas twist of ice tea instead of hot tea) for this special celebration of the bronze bust in his likeness.\n\nBronze bust dedication ceremony will be at 4:30 pm to recognize all those who made this bronze possible\, and to remember Douglas Granville Chandor (Aug 20\, 1897 - Jan. 13\, 1953)\, the internationally acclaimed portrait artist\, gardener\, and Weatherford's first "Citizen of the Year" in 1953.\n\nPrior to the dedication ceremony guests will be able to:\n\n	View the bronze portrait bust of Douglas Chandor in the garden.\n	Stroll through the gardens.\n	Tour the Chandor house at one's leisure. Docents will be available to answer questions.\n	Pause in the Great Room of the house and listen to beautiful music being played on the Steinway piano.\n	Enjoy complimentary "Afternoon Tea" type refreshments (ice tea and light bites) \n\nThis is a FREE event (no admission fee).\n\nEveryone welcome!
X-ALT-DESC;FMTTYPE=text/html:<span style="color:#472901"><span style="font-family:roboto">Please join us for&nbsp\;<strong><span style="font-family:roboto">&quot\;Afternoon Tea with Douglas&quot\; and Bronze Bust Dedication on Saturday\, October 5\, 2024 between 3 pm and 5 pm</span></strong>&nbsp\;<strong>at Chandor Gardens</strong> to celebrate the newly installed bronze portrait bust of Douglas Chandor.</span></span><br />\n<span style="color:#472901"><span style="font-family:roboto">Douglas Chandor\, being from England\, followed the British custom of &quot\;Afternoon Tea&quot\; (tea and a light snack) around 4:00 pm. We are sure Douglas would be delighted to know that we are carrying on this tradition (with a Texas twist of ice tea instead of hot tea) for this special celebration of the bronze bust in his likeness.</span></span><br />\n<strong><span style="color:#472901"><span style="font-family:roboto">Bronze bust</span></span></strong>&nbsp\;<strong><span style="color:#472901"><span style="font-family:roboto">dedication ceremony will be at 4:30 pm</span></span></strong><span style="color:#472901"><span style="font-family:roboto">&nbsp\;to recognize all those who made this bronze possible\, and to remember Douglas Granville Chandor (Aug 20\, 1897 - Jan. 13\, 1953)\, the internationally acclaimed portrait artist\, gardener\, and Weatherford&#39\;s first &quot\;Citizen of the Year&quot\; in 1953.</span></span><br />\n<span style="color:#472901"><span style="font-family:roboto">Prior to the dedication ceremony guests will be able to:</span></span>\n<ul style="list-style-type:circle">\n	<li><span style="color:#472901"><span style="font-family:roboto">View the bronze portrait bust of Douglas Chandor in the garden.</span></span></li>\n	<li><span style="color:#472901"><span style="font-family:roboto">Stroll through the gardens.</span></span></li>\n	<li><span style="color:#472901"><span style="font-family:roboto">Tour the Chandor house at one&rsquo\;s leisure. Docents will be available to answer questions.</span></span></li>\n	<li><span style="color:#472901"><span style="font-family:roboto">Pause in the Great Room of the house and listen to beautiful music being played on the Steinway piano.</span></span></li>\n	<li><span style="color:#472901"><span style="font-family:roboto">Enjoy complimentary &quot\;Afternoon Tea&quot\; type refreshments (ice tea and light bites)&nbsp\;</span></span></li>\n</ul>\n<span style="color:#472901"><span style="font-family:roboto"><span style="font-size:14.0pt">This is a&nbsp\;<strong><span style="font-family:roboto">FREE</span></strong>&nbsp\;event (no admission fee).</span></span></span><br />\n<strong><span style="color:#472901"><span style="font-family:roboto"><span style="font-size:14.0pt">Everyone welcome!</span></span></span></strong>
LOCATION:Chandor Gardens 711 W. Lee Ave Weatherford\, TX 76086
UID:e.2477.19929
SEQUENCE:3
DTSTAMP:20260423T211355Z
URL:http://business.parkercountychamber.com/events/details/afternoon-tea-with-douglas-bronze-bust-dedication-19929
END:VEVENT

END:VCALENDAR
