BEGIN:VCALENDAR
VERSION:2.0
PRODID:-//ChamberMaster//Event Calendar 2.0//EN
METHOD:PUBLISH
X-PUBLISHED-TTL:P3D
REFRESH-INTERVAL:P3D
CALSCALE:GREGORIAN
BEGIN:VEVENT
DTSTART:20241207T010000Z
DTEND:20241207T030000Z
X-MICROSOFT-CDO-ALLDAYEVENT:FALSE
SUMMARY:A Song for Christmas
DESCRIPTION:Weatherford College Fine and Performing Arts presents "A Song for Christmas."  Performed by The Weatherford College Choir.
X-ALT-DESC;FMTTYPE=text/html:Weatherford College Fine and Performing Arts presents &quot\;A Song for Christmas.&quot\;&nbsp\; Performed by The Weatherford College Choir.
LOCATION:Weatherford College Alkek Fine Arts Center: Alkek Theatre 225 College Park Dr.
UID:e.2477.20040
SEQUENCE:3
DTSTAMP:20260423T190608Z
URL:http://business.parkercountychamber.com/events/details/a-song-for-christmas-20040
END:VEVENT

END:VCALENDAR
