BEGIN:VCALENDAR
VERSION:2.0
PRODID:-//ChamberMaster//Event Calendar 2.0//EN
METHOD:PUBLISH
X-PUBLISHED-TTL:P3D
REFRESH-INTERVAL:P3D
CALSCALE:GREGORIAN
BEGIN:VEVENT
DTSTART:20250426T150000Z
DTEND:20250427T030000Z
X-MICROSOFT-CDO-ALLDAYEVENT:FALSE
SUMMARY:760 Fest - Music & Arts Festival Presented by The City of Willow Park
DESCRIPTION:760 FEST It's more than a festival - it's an experience.\n\nDive into a world of live\, interactive art and nonstop music! Explore handpicked vendors\, indulge in delicious food trucks\, and sip on craft drinks. Don't miss your chance to win exclusive raffle prizes or unwind in the 1920's-themed VIP Lounge for the ultimate vintage experience.\n\n \n\nBut the real magic? Surprise pop-up entertainment you won't see coming! All we'll say is\, keep your camera ready   you won't want to miss a moment! Expect the unexpected. Forget the usual.\n\n \n\nMark your calendar and be part of something unforgettable!
X-ALT-DESC;FMTTYPE=text/html:<strong><span style="border:none windowtext 1.0pt\;padding:0in\;"><span style="color:#2F2E2E\;"><span style="font-family:arial\,sans-serif\;">760 FEST It&#39\;s more than a festival - it&rsquo\;s an experience.</span></span></span></strong><br />\n<span style="text-align:initial\;"><span style="font-family:arial\,sans-serif\;"><span style="color:#2f2e2e\;">Dive into a world of live\, interactive art and nonstop music! Explore handpicked vendors\, indulge in delicious food trucks\, and sip on craft drinks. Don&rsquo\;t miss your chance to win exclusive raffle prizes or unwind in the 1920&rsquo\;s-themed VIP Lounge for the ultimate vintage experience.</span></span></span><br />\n&nbsp\;<br />\n<span style="border:none windowtext 1.0pt\;padding:0in\;"><span style="color:#2F2E2E\;"><span style="font-family:arial\,sans-serif\;">But the real magic? Surprise pop-up entertainment you won&rsquo\;t see coming! All we&rsquo\;ll say is\, keep your camera ready &ndash\; you won&rsquo\;t want to miss a moment! Expect the unexpected. Forget the usual.</span></span></span><br />\n&nbsp\;<br />\n<span style="border:none windowtext 1.0pt\;padding:0in\;"><span style="color:#2F2E2E\;"><span style="font-family:arial\,sans-serif\;">Mark your calendar and be part of something unforgettable!</span></span></span><br />\n&nbsp\;
LOCATION:460 Shops Blvd Willow Park
UID:e.2477.20358
SEQUENCE:3
DTSTAMP:20260423T090007Z
URL:http://business.parkercountychamber.com/events/details/760-fest-music-arts-festival-presented-by-the-city-of-willow-park-20358
END:VEVENT

END:VCALENDAR
