BEGIN:VCALENDAR
VERSION:2.0
PRODID:-//ChamberMaster//Event Calendar 2.0//EN
METHOD:PUBLISH
X-PUBLISHED-TTL:P3D
REFRESH-INTERVAL:P3D
CALSCALE:GREGORIAN
BEGIN:VEVENT
DTSTART:20220517T163000Z
DTEND:20220517T180000Z
X-MICROSOFT-CDO-ALLDAYEVENT:FALSE
SUMMARY:5-Star Game Changer Series
DESCRIPTION:Generations in the Workplace:\n\nBaby Boomers\, Gen-X\, Millennials\, and Gen-Z  where to begin?\n\nAmong the 4 generations that make up our workforce\, there is a tremendous diversity of motivations\, work ethics\, skills\, strengths\, weaknesses\, etc.  Being considerate and understanding of all of those things simultaneously is quite the challenge. This session\, provided by a Millennial (technically)\, will uncover what is really behind the dramatic differences we perceive as the generation gap. The workforce is changing at a pace unlike any other in recent history. Business leaders must bridge the perceived gap before it's too late.\n\nParticipants will:\n\n* Learn what has shaped the mentalities of the 4 generations\n\n* Understand the long-term impact to business if open communication doesn't happen\n\n* Realize both why we stereotype generations and why those stereotypes are hard to overcome\n\n* Discover the actual truth behind the generation gap
X-ALT-DESC;FMTTYPE=text/html:<strong>Generations in the Workplace</strong>:<br />\nBaby Boomers\, Gen-X\, Millennials\, and Gen-Z&hellip\; where to begin?<br />\nAmong the 4 generations that make up our workforce\, there is a tremendous diversity of motivations\, work ethics\, skills\, strengths\, weaknesses\, etc.&nbsp\; Being considerate and understanding of all of those things simultaneously is quite the challenge. This session\, provided by a Millennial (technically)\, will uncover what is <em>really</em> behind the dramatic differences we perceive as the generation gap. The workforce is changing at a pace unlike any other in recent history. Business leaders must bridge the perceived gap before it&rsquo\;s too late.<br />\nParticipants will:<br />\n* Learn what has shaped the mentalities of the 4 generations<br />\n* Understand the long-term impact to business if open communication doesn&rsquo\;t happen<br />\n* Realize both why we stereotype generations and why those stereotypes are hard to overcome<br />\n* Discover the <em>actual</em> truth behind the generation gap
LOCATION:First Bank Texas (Next to Brookshire's) 100 Willow Bend Drive Willow Park
UID:e.2477.16470
SEQUENCE:3
DTSTAMP:20260425T142433Z
URL:http://business.parkercountychamber.com/events/details/5-star-game-changer-series-16470
END:VEVENT

END:VCALENDAR
