BEGIN:VCALENDAR
VERSION:2.0
PRODID:-//ChamberMaster//Event Calendar 2.0//EN
METHOD:PUBLISH
X-PUBLISHED-TTL:P3D
REFRESH-INTERVAL:P3D
CALSCALE:GREGORIAN
BEGIN:VEVENT
DTSTART:20220215T173000Z
DTEND:20220215T190000Z
X-MICROSOFT-CDO-ALLDAYEVENT:FALSE
SUMMARY:5-Star Game Changer
DESCRIPTION:Speaker:  Dr. Renea Skelton\n\nProgram:  True Colors Workshop\n\nHave you noticed there are people we seem to get along with easily\, and then there are others that just rub us the wrong way? Often\, what's at the root are individual personality styles   how we see the world\, what drives us & how we prefer to be communicated with.\n\nJoin us February 15th from 11:30 - 1:00 at First Bank Texas as Dr. Renea Skelton\, Certified Life Coach and True Colors Master Trainer\, shares how your personality spectrum influences how you effectively communicate with others. Learn how to improve self-awareness\, establish deeper relationships\, and create a cohesive team culture using True Colors!
X-ALT-DESC;FMTTYPE=text/html:Speaker:&nbsp\; Dr. Renea Skelton<br />\nProgram:&nbsp\; True Colors Workshop<br />\n<span style="font-family:arial\,sans-serif\;"><span style="font-size:12.0pt\;">Have you noticed there are people we seem to get along with easily\, and then there are others that just rub us the wrong way? Often\, what&rsquo\;s at the root are individual personality styles &ndash\; how we see the world\, what drives us &amp\; how we prefer to be communicated with.</span></span><br />\n<span style="font-size:12pt\;"><span style="font-family:arial\,sans-serif\;">Join us February 15th from 11:30 - 1:00 at First Bank Texas as Dr. Renea Skelton\, Certified Life Coach and True Colors Master Trainer\, shares how your personality spectrum influences how you effectively communicate with others. Learn how to improve self-awareness\, establish deeper relationships\, and create a cohesive team culture using True Colors!</span></span>
LOCATION:First Bank Texas Willow Park
UID:e.2477.16462
SEQUENCE:3
DTSTAMP:20260425T183031Z
URL:http://business.parkercountychamber.com/events/details/5-star-game-changer-16462
END:VEVENT

END:VCALENDAR
