BEGIN:VCALENDAR
VERSION:2.0
PRODID:-//ChamberMaster//Event Calendar 2.0//EN
METHOD:PUBLISH
X-PUBLISHED-TTL:P3D
REFRESH-INTERVAL:P3D
CALSCALE:GREGORIAN
BEGIN:VEVENT
DTSTART:20250607T150000Z
DTEND:20250607T210000Z
X-MICROSOFT-CDO-ALLDAYEVENT:FALSE
SUMMARY:4th Annual Secret Gardens of Parker County Tour
DESCRIPTION:Enjoy a self-guided journey through 7 unique gardens in Parker County. Discover what lies behind the hedges\, fences\, and gates!\n\n\n\nThe Friends of Chandor Gardens are pleased to present the 4th Annual Secret Gardens of Parker County Tour of 7 unique gardens in Parker County\, Texas\, which showcases stunning views\, landscaping ideas\, fascinating plants and garden art.\n\n\n\nThis is a self-guided tour\, so you can make your own itinerary and go at your own pace between the hours of 10:00 A.M. and 4:00 P.M. on Saturday\, June 7\, 2025.\n\n\n\nGarden Locations:  TBA closer to the event date\n\n\n\nTickets:\n\n	$15/person - online in advance\n	$20/person - day of the event at 1st garden visited.\n\nNOTE - Those purchasing tickets online will be emailed a brochure with information about each garden and a map closer to the tour date. Ticket holders will be provided a printed copy of the brochure at the 1st garden gate visited the day of the event.\n\nRegrettably\, due to stairs and uneven terrain\, the gardens on the tour are not fully accessible for those with mobility disabilities.\n\n\n\nIn case of cancellation\, due to significant inclement weather\, the tour will be held Saturday\, June 8\, 2024\, instead.\n\n\n\nThank-you so much to the garden owners!\n\nWe are only able to be in the private gardens through the gracious kindness of the owners.\n\n\n\nFor additional information call Karen at: 817-550-7762\n\n\n\nCLICK HERE TO PURCHASE ONLINE TICKETS
X-ALT-DESC;FMTTYPE=text/html:<strong>Enjoy a self-guided journey through 7 unique gardens in Parker County. Discover what lies behind the hedges\, fences\, and gates!</strong><br />\n<br />\nThe Friends of Chandor Gardens are pleased to present the&nbsp\;<strong>4th Annual Secret Gardens of Parker County Tour&nbsp\;</strong>of 7 unique gardens in Parker County\, Texas\, which showcases stunning views\, landscaping ideas\, fascinating plants and garden art.<br />\n<br />\nThis is a self-guided tour\, so you can make your own itinerary and go at your own pace between the hours of&nbsp\;<strong>10:00 A.M. and 4:00 P.M. on Saturday\, June 7\, 2025.</strong><br />\n<br />\n<strong>Garden Locations:&nbsp\; TBA closer to the event date</strong><br />\n<br />\n<strong>Tickets:</strong>\n<ul>\n	<li>$15/person - online in advance</li>\n	<li>$20/person - day of the event at 1st garden visited.</li>\n</ul>\n<strong>NOTE</strong>&nbsp\;- Those purchasing tickets online will be emailed a brochure with information about each garden and a map closer to the tour date. Ticket holders will be provided a printed copy of the brochure at the 1st garden gate visited the day of the event.<br />\nRegrettably\, due to stairs and uneven terrain\, the gardens on the tour are not fully accessible for those with mobility disabilities.<br />\n<br />\nIn case of cancellation\, due to significant inclement weather\, the tour will be held Saturday\, June 8\, 2024\, instead.<br />\n<br />\n<strong>Thank-you so much to the garden owners!<br />\nWe are only able to be in the private gardens through the gracious kindness of the owners.</strong><br />\n<br />\nFor additional information call Karen at: 817-550-7762<br />\n<br />\n<a href="https://www.eventbrite.com/e/4th-annual-secret-gardens-of-parker-county-tour-tickets-1251805496939?aff=oddtdtcreator"><strong>CLICK HERE TO PURCHASE ONLINE TICKETS</strong></a>
LOCATION:Garden Locations: TBA closer to the event date
UID:e.2477.20313
SEQUENCE:3
DTSTAMP:20260423T055324Z
URL:http://business.parkercountychamber.com/events/details/4th-annual-secret-garden-of-parker-county-tour-20313
END:VEVENT

END:VCALENDAR
