BEGIN:VCALENDAR
VERSION:2.0
PRODID:-//ChamberMaster//Event Calendar 2.0//EN
METHOD:PUBLISH
X-PUBLISHED-TTL:P3D
REFRESH-INTERVAL:P3D
CALSCALE:GREGORIAN
BEGIN:VEVENT
DTSTART:20211026T140000Z
DTEND:20211026T190000Z
X-MICROSOFT-CDO-ALLDAYEVENT:FALSE
SUMMARY:4th Annual Men's Legacy Conference
DESCRIPTION:Lisa Marie Graves Presents\n\n \nThe Men's Legacy Conference is an annual half-day forum for business professionals that features high-powered guest speakers addressing critical issues foremost in the minds of highly motivated achievers in the corporate world.\n\n \n\nThe ups and downs of the last twenty-one months have highlighted the need for business professionals to create and execute plans that help them weather the unexpected. The question is\, how do you do that?\n\nYour business is in the middle of a changing\, more competitive market. Are you going to thrive?\n\n \n\nWith the uncertainty in the world\, there is nothing more important for businessmen than to be prepared for what the future might bring.\n\n\n\nThe conference will help businessmen\n\n  Learn how to prepare\, prosper and thrive in this economic climate.\n\n  Build the intellectual capital to inspire your employees and clients.\n\n  Learn what's coming and how to prepare\n\n\n\nIt is important to our community for businesses that are here now and the people who run them to continue to be successful.\n\n\n\nWould you like to be a Legacy Partner? Our goal is to provide a fully integrated experience for all of our attendees and your company. A variety of partnership opportunities is available providing multiple ways for your business and organization to raise awareness about your product and services. Our partnerships are built to give you maximum return and to fit EVERY budget.
X-ALT-DESC;FMTTYPE=text/html:<span style="background-color:rgb(255\, 255\, 255)\; color:rgb(29\, 33\, 41)\; font-family:helvetica\,arial\,sans-serif\; font-size:14px">Lisa Marie Graves Presents</span><br />\n&nbsp\;\n<div><span style="font-size:14px">The Men&rsquo\;s Legacy Conference is an annual half-day forum for business professionals that features high-powered guest speakers addressing critical issues foremost in the minds of highly motivated achievers in the corporate world.</span><br />\n&nbsp\;</div>\n\n<div><span style="font-size:14px">The ups and downs of the last twenty-one months have highlighted the need for business professionals to create and execute plans that help them weather the unexpected. The question is\, how do you do that?</span></div>\n\n<div><span style="font-size:14px">Your business is in the middle of a changing\, more competitive market. Are you going to thrive?</span><br />\n&nbsp\;</div>\n\n<div><span style="font-size:14px">With the uncertainty in the world\,&nbsp\;there is nothing more important for businessmen than to be prepared for what the future might bring.</span><br />\n<br />\n<span style="font-size:14px">The conference will help businessmen</span></div>\n\n<div><span style="font-size:14px">&bull\; Learn how to prepare\, prosper and thrive in this economic climate.<br />\n&bull\; Build the intellectual capital to inspire your employees and clients.<br />\n&bull\; Learn what&rsquo\;s coming and how to prepare</span></div>\n\n<div><br />\n<span style="font-size:14px">It is important to our community for businesses that are here now&nbsp\;and the people who run them to continue to be successful.<br />\n<br />\n<span style="background-color:rgb(255\, 255\, 255)\; color:rgb(5\, 5\, 5)\; font-family:segoe ui historic\,segoe ui\,helvetica\,arial\,sans-serif">Would you like to be a Legacy Partner? Our goal is to provide a fully integrated experience for all of our attendees and your company. A variety of partnership opportunities is available providing multiple ways for your business and organization to raise awareness about your product and services. Our partnerships are built to give you maximum return and to fit EVERY budget.</span></span></div>\n
LOCATION:First Baptist Church of Weatherford 222 W Church St. Weatherford\, TX 76086
UID:e.2477.15585
SEQUENCE:3
DTSTAMP:20260426T000346Z
URL:http://business.parkercountychamber.com/events/details/4th-annual-men-s-legacy-conference-15585
END:VEVENT

END:VCALENDAR
